BEGIN:VCALENDAR
VERSION:2.0
PRODID: Ultiorganizer


BEGIN:VEVENT
SUMMARY:Äitschbees-Bad Girls & Boys
DESCRIPTION:Junioren U14: Überkreuz
LOCATION:  
DTSTART;TZID=Europe/Helsinki:
DURATION: P0M
GEO:;
END:VEVENT

BEGIN:VEVENT
SUMMARY:UFO-Pizza Volante 2
DESCRIPTION:Junioren U14: Überkreuz
LOCATION:  
DTSTART;TZID=Europe/Helsinki:
DURATION: P0M
GEO:;
END:VEVENT

END:VCALENDAR
