BEGIN:VCALENDAR
VERSION:2.0
PRODID: Ultiorganizer


BEGIN:VEVENT
SUMMARY:Bonnsai-Endzonengammler
DESCRIPTION:Mixed 3. Liga NW: Pool A
LOCATION: Paderborn 1
DTSTART;TZID=Europe/Berlin:20170701T090000
DURATION: P100M
GEO:51.7189216613770;8.7575092315674
END:VEVENT

BEGIN:VEVENT
SUMMARY:Hamburg Alsters-Frisbielefeld
DESCRIPTION:Mixed 3. Liga NW: Pool A
LOCATION: Paderborn 2
DTSTART;TZID=Europe/Berlin:20170701T090000
DURATION: P100M
GEO:51.7189216613770;8.7575092315674
END:VEVENT

BEGIN:VEVENT
SUMMARY:Torpedo Phoenix-DU bist Frisbee
DESCRIPTION:Mixed 3. Liga NW: Pool A
LOCATION: Paderborn 1
DTSTART;TZID=Europe/Berlin:20170701T104000
DURATION: P100M
GEO:51.7189216613770;8.7575092315674
END:VEVENT

BEGIN:VEVENT
SUMMARY:Funatics-Frizzly Bears
DESCRIPTION:Mixed 3. Liga NW: Pool A
LOCATION: Paderborn 2
DTSTART;TZID=Europe/Berlin:20170701T104000
DURATION: P100M
GEO:51.7189216613770;8.7575092315674
END:VEVENT

BEGIN:VEVENT
SUMMARY:Frisbielefeld-Bonnsai
DESCRIPTION:Mixed 3. Liga NW: Pool A
LOCATION: Paderborn 1
DTSTART;TZID=Europe/Berlin:20170701T122000
DURATION: P100M
GEO:51.7189216613770;8.7575092315674
END:VEVENT

BEGIN:VEVENT
SUMMARY:Endzonengammler-Hamburg Alsters
DESCRIPTION:Mixed 3. Liga NW: Pool A
LOCATION: Paderborn 2
DTSTART;TZID=Europe/Berlin:20170701T122000
DURATION: P100M
GEO:51.7189216613770;8.7575092315674
END:VEVENT

BEGIN:VEVENT
SUMMARY:Frizzly Bears-Torpedo Phoenix
DESCRIPTION:Mixed 3. Liga NW: Pool A
LOCATION: Paderborn 1
DTSTART;TZID=Europe/Berlin:20170701T140000
DURATION: P100M
GEO:51.7189216613770;8.7575092315674
END:VEVENT

BEGIN:VEVENT
SUMMARY:DU bist Frisbee-Funatics
DESCRIPTION:Mixed 3. Liga NW: Pool A
LOCATION: Paderborn 2
DTSTART;TZID=Europe/Berlin:20170701T140000
DURATION: P100M
GEO:51.7189216613770;8.7575092315674
END:VEVENT

BEGIN:VEVENT
SUMMARY:Bonnsai-Hamburg Alsters
DESCRIPTION:Mixed 3. Liga NW: Pool A
LOCATION: Paderborn 1
DTSTART;TZID=Europe/Berlin:20170701T154000
DURATION: P100M
GEO:51.7189216613770;8.7575092315674
END:VEVENT

BEGIN:VEVENT
SUMMARY:Endzonengammler-Frisbielefeld
DESCRIPTION:Mixed 3. Liga NW: Pool A
LOCATION: Paderborn 2
DTSTART;TZID=Europe/Berlin:20170701T154000
DURATION: P100M
GEO:51.7189216613770;8.7575092315674
END:VEVENT

BEGIN:VEVENT
SUMMARY:DU bist Frisbee-Frizzly Bears
DESCRIPTION:Mixed 3. Liga NW: Pool A
LOCATION: Paderborn 1
DTSTART;TZID=Europe/Berlin:20170701T172000
DURATION: P100M
GEO:51.7189216613770;8.7575092315674
END:VEVENT

BEGIN:VEVENT
SUMMARY:Torpedo Phoenix-Funatics
DESCRIPTION:Mixed 3. Liga NW: Pool A
LOCATION: Paderborn 2
DTSTART;TZID=Europe/Berlin:20170701T172000
DURATION: P100M
GEO:51.7189216613770;8.7575092315674
END:VEVENT

BEGIN:VEVENT
SUMMARY:Torpedo Phoenix-Frisbielefeld
DESCRIPTION:Mixed 3. Liga NW: Pool A
LOCATION: Paderborn 1
DTSTART;TZID=Europe/Berlin:20170702T090000
DURATION: P100M
GEO:51.7189216613770;8.7575092315674
END:VEVENT

BEGIN:VEVENT
SUMMARY:Hamburg Alsters-DU bist Frisbee
DESCRIPTION:Mixed 3. Liga NW: Pool A
LOCATION: Paderborn 2
DTSTART;TZID=Europe/Berlin:20170702T090000
DURATION: P100M
GEO:51.7189216613770;8.7575092315674
END:VEVENT

BEGIN:VEVENT
SUMMARY:Funatics-Endzonengammler
DESCRIPTION:Mixed 3. Liga NW: Pool A
LOCATION: Paderborn 1
DTSTART;TZID=Europe/Berlin:20170702T104000
DURATION: P100M
GEO:51.7189216613770;8.7575092315674
END:VEVENT

BEGIN:VEVENT
SUMMARY:Bonnsai-Frizzly Bears
DESCRIPTION:Mixed 3. Liga NW: Pool A
LOCATION: Paderborn 2
DTSTART;TZID=Europe/Berlin:20170702T104000
DURATION: P100M
GEO:51.7189216613770;8.7575092315674
END:VEVENT

BEGIN:VEVENT
SUMMARY:Hamburg Alsters-Torpedo Phoenix
DESCRIPTION:Mixed 3. Liga NW: Pool A
LOCATION: Paderborn 1
DTSTART;TZID=Europe/Berlin:20170702T122000
DURATION: P100M
GEO:51.7189216613770;8.7575092315674
END:VEVENT

BEGIN:VEVENT
SUMMARY:Frisbielefeld-DU bist Frisbee
DESCRIPTION:Mixed 3. Liga NW: Pool A
LOCATION: Paderborn 2
DTSTART;TZID=Europe/Berlin:20170702T122000
DURATION: P100M
GEO:51.7189216613770;8.7575092315674
END:VEVENT

BEGIN:VEVENT
SUMMARY:Funatics-Bonnsai
DESCRIPTION:Mixed 3. Liga NW: Pool A
LOCATION: Paderborn 1
DTSTART;TZID=Europe/Berlin:20170702T140000
DURATION: P100M
GEO:51.7189216613770;8.7575092315674
END:VEVENT

BEGIN:VEVENT
SUMMARY:Frizzly Bears-Endzonengammler
DESCRIPTION:Mixed 3. Liga NW: Pool A
LOCATION: Paderborn 2
DTSTART;TZID=Europe/Berlin:20170702T140000
DURATION: P100M
GEO:51.7189216613770;8.7575092315674
END:VEVENT

BEGIN:VEVENT
SUMMARY:Frizzly Bears-Hamburg Alsters
DESCRIPTION:Mixed 3. Liga NW: Pool A
LOCATION: Duisburg 1
DTSTART;TZID=Europe/Berlin:20170826T093000
DURATION: P100M
GEO:51.4344062805176;6.7623291015625
END:VEVENT

BEGIN:VEVENT
SUMMARY:Frisbielefeld-Funatics
DESCRIPTION:Mixed 3. Liga NW: Pool A
LOCATION: Duisburg 2
DTSTART;TZID=Europe/Berlin:20170826T093000
DURATION: P100M
GEO:51.4344062805176;6.7623291015625
END:VEVENT

BEGIN:VEVENT
SUMMARY:Endzonengammler-Torpedo Phoenix
DESCRIPTION:Mixed 3. Liga NW: Pool A
LOCATION: Duisburg 1
DTSTART;TZID=Europe/Berlin:20170826T111000
DURATION: P100M
GEO:51.4344062805176;6.7623291015625
END:VEVENT

BEGIN:VEVENT
SUMMARY:DU bist Frisbee-Bonnsai
DESCRIPTION:Mixed 3. Liga NW: Pool A
LOCATION: Duisburg 2
DTSTART;TZID=Europe/Berlin:20170826T111000
DURATION: P100M
GEO:51.4344062805176;6.7623291015625
END:VEVENT

BEGIN:VEVENT
SUMMARY:Frisbielefeld-Frizzly Bears
DESCRIPTION:Mixed 3. Liga NW: Pool A
LOCATION: Duisburg 1
DTSTART;TZID=Europe/Berlin:20170826T125000
DURATION: P100M
GEO:51.4344062805176;6.7623291015625
END:VEVENT

BEGIN:VEVENT
SUMMARY:Funatics-Hamburg Alsters
DESCRIPTION:Mixed 3. Liga NW: Pool A
LOCATION: Duisburg 2
DTSTART;TZID=Europe/Berlin:20170826T125000
DURATION: P100M
GEO:51.4344062805176;6.7623291015625
END:VEVENT

BEGIN:VEVENT
SUMMARY:DU bist Frisbee-Endzonengammler
DESCRIPTION:Mixed 3. Liga NW: Pool A
LOCATION: Duisburg 1
DTSTART;TZID=Europe/Berlin:20170826T143000
DURATION: P100M
GEO:51.4344062805176;6.7623291015625
END:VEVENT

BEGIN:VEVENT
SUMMARY:Bonnsai-Torpedo Phoenix
DESCRIPTION:Mixed 3. Liga NW: Pool A
LOCATION: Duisburg 2
DTSTART;TZID=Europe/Berlin:20170826T143000
DURATION: P100M
GEO:51.4344062805176;6.7623291015625
END:VEVENT

END:VCALENDAR
