BEGIN:VCALENDAR
VERSION:2.0
PRODID: Ultiorganizer


BEGIN:VEVENT
SUMMARY:Bonnsai-Hamburg Alsters
DESCRIPTION:Mixed 3. Liga NW: PreSemi
LOCATION: Duisburg 1
DTSTART;TZID=Europe/Berlin:20170826T170000
DURATION: P100M
GEO:51.4344062805176;6.7623291015625
END:VEVENT

BEGIN:VEVENT
SUMMARY:DU bist Frisbee-Torpedo Phoenix
DESCRIPTION:Mixed 3. Liga NW: PreSemi
LOCATION: Duisburg 2
DTSTART;TZID=Europe/Berlin:20170826T170000
DURATION: P100M
GEO:51.4344062805176;6.7623291015625
END:VEVENT

END:VCALENDAR
