BEGIN:VCALENDAR
VERSION:2.0
PRODID: Ultiorganizer


BEGIN:VEVENT
SUMMARY:Heppie Frisbeez-Celtics
DESCRIPTION:U17: Pool A
LOCATION: Ditzingen 3
DTSTART;TZID=Europe/Berlin:20170923T093000
DURATION: P45M
GEO:48.8264656066895;9.0675563812256
END:VEVENT

BEGIN:VEVENT
SUMMARY:Disckick-Cologne Colibris
DESCRIPTION:U17: Pool A
LOCATION: Ditzingen 4
DTSTART;TZID=Europe/Berlin:20170923T093000
DURATION: P45M
GEO:48.8264656066895;9.0675563812256
END:VEVENT

BEGIN:VEVENT
SUMMARY:Celtics-Äitschbees
DESCRIPTION:U17: Pool A
LOCATION: Ditzingen 3
DTSTART;TZID=Europe/Berlin:20170923T110000
DURATION: P45M
GEO:48.8264656066895;9.0675563812256
END:VEVENT

BEGIN:VEVENT
SUMMARY:Cologne Colibris-Heppie Frisbeez
DESCRIPTION:U17: Pool A
LOCATION: Ditzingen 4
DTSTART;TZID=Europe/Berlin:20170923T110000
DURATION: P45M
GEO:48.8264656066895;9.0675563812256
END:VEVENT

BEGIN:VEVENT
SUMMARY:Äitschbees-Disckick
DESCRIPTION:U17: Pool A
LOCATION: Ditzingen 3
DTSTART;TZID=Europe/Berlin:20170923T123000
DURATION: P45M
GEO:48.8264656066895;9.0675563812256
END:VEVENT

BEGIN:VEVENT
SUMMARY:Cologne Colibris-Celtics
DESCRIPTION:U17: Pool A
LOCATION: Ditzingen 4
DTSTART;TZID=Europe/Berlin:20170923T123000
DURATION: P45M
GEO:48.8264656066895;9.0675563812256
END:VEVENT

BEGIN:VEVENT
SUMMARY:Heppie Frisbeez-Äitschbees
DESCRIPTION:U17: Pool A
LOCATION: Ditzingen 3
DTSTART;TZID=Europe/Berlin:20170923T140000
DURATION: P45M
GEO:48.8264656066895;9.0675563812256
END:VEVENT

BEGIN:VEVENT
SUMMARY:Celtics-Disckick
DESCRIPTION:U17: Pool A
LOCATION: Ditzingen 4
DTSTART;TZID=Europe/Berlin:20170923T140000
DURATION: P45M
GEO:48.8264656066895;9.0675563812256
END:VEVENT

BEGIN:VEVENT
SUMMARY:Äitschbees-Cologne Colibris
DESCRIPTION:U17: Pool A
LOCATION: Ditzingen 3
DTSTART;TZID=Europe/Berlin:20170923T153000
DURATION: P45M
GEO:48.8264656066895;9.0675563812256
END:VEVENT

BEGIN:VEVENT
SUMMARY:Disckick-Heppie Frisbeez
DESCRIPTION:U17: Pool A
LOCATION: Ditzingen 4
DTSTART;TZID=Europe/Berlin:20170923T153000
DURATION: P45M
GEO:48.8264656066895;9.0675563812256
END:VEVENT

END:VCALENDAR
