BEGIN:VCALENDAR
VERSION:2.0
PRODID: Ultiorganizer


BEGIN:VEVENT
SUMMARY:Bad Rappenau-MuH
DESCRIPTION:U17: Pool B
LOCATION: Ditzingen 3
DTSTART;TZID=Europe/Berlin:20170923T101500
DURATION: P45M
GEO:48.8264656066895;9.0675563812256
END:VEVENT

BEGIN:VEVENT
SUMMARY:Sean's Sheep-Pizza Volante
DESCRIPTION:U17: Pool B
LOCATION: Ditzingen 4
DTSTART;TZID=Europe/Berlin:20170923T101500
DURATION: P45M
GEO:48.8264656066895;9.0675563812256
END:VEVENT

BEGIN:VEVENT
SUMMARY:MuH-TV Verl
DESCRIPTION:U17: Pool B
LOCATION: Ditzingen 3
DTSTART;TZID=Europe/Berlin:20170923T114500
DURATION: P45M
GEO:48.8264656066895;9.0675563812256
END:VEVENT

BEGIN:VEVENT
SUMMARY:Pizza Volante-Bad Rappenau
DESCRIPTION:U17: Pool B
LOCATION: Ditzingen 4
DTSTART;TZID=Europe/Berlin:20170923T114500
DURATION: P45M
GEO:48.8264656066895;9.0675563812256
END:VEVENT

BEGIN:VEVENT
SUMMARY:TV Verl-Sean's Sheep
DESCRIPTION:U17: Pool B
LOCATION: Ditzingen 3
DTSTART;TZID=Europe/Berlin:20170923T131500
DURATION: P45M
GEO:48.8264656066895;9.0675563812256
END:VEVENT

BEGIN:VEVENT
SUMMARY:Pizza Volante-MuH
DESCRIPTION:U17: Pool B
LOCATION: Ditzingen 4
DTSTART;TZID=Europe/Berlin:20170923T131500
DURATION: P45M
GEO:48.8264656066895;9.0675563812256
END:VEVENT

BEGIN:VEVENT
SUMMARY:Bad Rappenau-TV Verl
DESCRIPTION:U17: Pool B
LOCATION: Ditzingen 3
DTSTART;TZID=Europe/Berlin:20170923T144500
DURATION: P45M
GEO:48.8264656066895;9.0675563812256
END:VEVENT

BEGIN:VEVENT
SUMMARY:MuH-Sean's Sheep
DESCRIPTION:U17: Pool B
LOCATION: Ditzingen 4
DTSTART;TZID=Europe/Berlin:20170923T144500
DURATION: P45M
GEO:48.8264656066895;9.0675563812256
END:VEVENT

BEGIN:VEVENT
SUMMARY:TV Verl-Pizza Volante
DESCRIPTION:U17: Pool B
LOCATION: Ditzingen 3
DTSTART;TZID=Europe/Berlin:20170923T161500
DURATION: P45M
GEO:48.8264656066895;9.0675563812256
END:VEVENT

BEGIN:VEVENT
SUMMARY:Sean's Sheep-Bad Rappenau
DESCRIPTION:U17: Pool B
LOCATION: Ditzingen 4
DTSTART;TZID=Europe/Berlin:20170923T161500
DURATION: P45M
GEO:48.8264656066895;9.0675563812256
END:VEVENT

END:VCALENDAR
