BEGIN:VCALENDAR
VERSION:2.0
PRODID: Ultiorganizer


BEGIN:VEVENT
SUMMARY:MuH - Mir uss Haldawang-Moskitos
DESCRIPTION:U14 Quali SO: Pool A
LOCATION: München 1
DTSTART;TZID=Europe/Berlin:20260117T100000
DURATION: P30M
GEO:48.1351242065430;11.5819807052612
END:VEVENT

BEGIN:VEVENT
SUMMARY:Moskitos-Ratisbona Eagles
DESCRIPTION:U14 Quali SO: Pool A
LOCATION: München 1
DTSTART;TZID=Europe/Berlin:20260117T110000
DURATION: P30M
GEO:48.1351242065430;11.5819807052612
END:VEVENT

BEGIN:VEVENT
SUMMARY:Ratisbona Eagles-MuH - Mir uss Haldawang
DESCRIPTION:U14 Quali SO: Pool A
LOCATION: München 1
DTSTART;TZID=Europe/Berlin:20260117T123000
DURATION: P30M
GEO:48.1351242065430;11.5819807052612
END:VEVENT

END:VCALENDAR
