BEGIN:VCALENDAR
VERSION:2.0
PRODID: Ultiorganizer


BEGIN:VEVENT
SUMMARY:Hucks Ultimate Club Berlin II-Undercover II
DESCRIPTION:3. Liga Nord-Ost Frauen, Indoor: Pool A
LOCATION: Dresden 1
DTSTART;TZID=Europe/Berlin:20260228T100000
DURATION: P50M
GEO:51.0504074096680;13.7372617721558
END:VEVENT

BEGIN:VEVENT
SUMMARY:SPOKO-Pizza Volante
DESCRIPTION:3. Liga Nord-Ost Frauen, Indoor: Pool A
LOCATION: Dresden 1
DTSTART;TZID=Europe/Berlin:20260228T105000
DURATION: P50M
GEO:51.0504074096680;13.7372617721558
END:VEVENT

BEGIN:VEVENT
SUMMARY:Endamazonis-Hucks Ultimate Club Berlin II
DESCRIPTION:3. Liga Nord-Ost Frauen, Indoor: Pool A
LOCATION: Dresden 1
DTSTART;TZID=Europe/Berlin:20260228T121000
DURATION: P50M
GEO:51.0504074096680;13.7372617721558
END:VEVENT

BEGIN:VEVENT
SUMMARY:SPOKO-Undercover II
DESCRIPTION:3. Liga Nord-Ost Frauen, Indoor: Pool A
LOCATION: Dresden 1
DTSTART;TZID=Europe/Berlin:20260228T130000
DURATION: P50M
GEO:51.0504074096680;13.7372617721558
END:VEVENT

BEGIN:VEVENT
SUMMARY:Pizza Volante-Endamazonis
DESCRIPTION:3. Liga Nord-Ost Frauen, Indoor: Pool A
LOCATION: Dresden 1
DTSTART;TZID=Europe/Berlin:20260228T135000
DURATION: P50M
GEO:51.0504074096680;13.7372617721558
END:VEVENT

BEGIN:VEVENT
SUMMARY:Hucks Ultimate Club Berlin II-SPOKO
DESCRIPTION:3. Liga Nord-Ost Frauen, Indoor: Pool A
LOCATION: Dresden 1
DTSTART;TZID=Europe/Berlin:20260228T144000
DURATION: P50M
GEO:51.0504074096680;13.7372617721558
END:VEVENT

BEGIN:VEVENT
SUMMARY:Undercover II-Endamazonis
DESCRIPTION:3. Liga Nord-Ost Frauen, Indoor: Pool A
LOCATION: Dresden 1
DTSTART;TZID=Europe/Berlin:20260228T153000
DURATION: P50M
GEO:51.0504074096680;13.7372617721558
END:VEVENT

BEGIN:VEVENT
SUMMARY:Pizza Volante-Hucks Ultimate Club Berlin II
DESCRIPTION:3. Liga Nord-Ost Frauen, Indoor: Pool A
LOCATION: Dresden 1
DTSTART;TZID=Europe/Berlin:20260228T162000
DURATION: P50M
GEO:51.0504074096680;13.7372617721558
END:VEVENT

BEGIN:VEVENT
SUMMARY:Endamazonis-SPOKO
DESCRIPTION:3. Liga Nord-Ost Frauen, Indoor: Pool A
LOCATION: Dresden 1
DTSTART;TZID=Europe/Berlin:20260228T171000
DURATION: P50M
GEO:51.0504074096680;13.7372617721558
END:VEVENT

BEGIN:VEVENT
SUMMARY:Undercover II-Pizza Volante
DESCRIPTION:3. Liga Nord-Ost Frauen, Indoor: Pool A
LOCATION: Dresden 1
DTSTART;TZID=Europe/Berlin:20260228T180000
DURATION: P50M
GEO:51.0504074096680;13.7372617721558
END:VEVENT

END:VCALENDAR
