BEGIN:VCALENDAR
VERSION:2.0
PRODID: Ultiorganizer


BEGIN:VEVENT
SUMMARY:Äitschbees-UFO
DESCRIPTION:Junioren U14: Pool G
LOCATION:  
DTSTART;TZID=Europe/Helsinki:
DURATION: P0M
GEO:;
END:VEVENT

BEGIN:VEVENT
SUMMARY:UFO-Pizza Volante
DESCRIPTION:Junioren U14: Pool G
LOCATION:  
DTSTART;TZID=Europe/Helsinki:
DURATION: P0M
GEO:;
END:VEVENT

BEGIN:VEVENT
SUMMARY:UHUS-UFO
DESCRIPTION:Junioren U14: Pool G
LOCATION:  
DTSTART;TZID=Europe/Helsinki:
DURATION: P0M
GEO:;
END:VEVENT

BEGIN:VEVENT
SUMMARY:UFO-Bad Raps
DESCRIPTION:Junioren U14: Pool G
LOCATION:  
DTSTART;TZID=Europe/Helsinki:
DURATION: P0M
GEO:;
END:VEVENT

BEGIN:VEVENT
SUMMARY:Bad Raps-Äitschbees
DESCRIPTION:Junioren U14: Pool G
LOCATION:  
DTSTART;TZID=Europe/Helsinki:
DURATION: P0M
GEO:;
END:VEVENT

BEGIN:VEVENT
SUMMARY:Pizza Volante-Bad Raps
DESCRIPTION:Junioren U14: Pool G
LOCATION:  
DTSTART;TZID=Europe/Helsinki:
DURATION: P0M
GEO:;
END:VEVENT

BEGIN:VEVENT
SUMMARY:Bad Raps-UHUS
DESCRIPTION:Junioren U14: Pool G
LOCATION:  
DTSTART;TZID=Europe/Helsinki:
DURATION: P0M
GEO:;
END:VEVENT

BEGIN:VEVENT
SUMMARY:Äitschbees-UHUS
DESCRIPTION:Junioren U14: Pool G
LOCATION:  
DTSTART;TZID=Europe/Helsinki:
DURATION: P0M
GEO:;
END:VEVENT

BEGIN:VEVENT
SUMMARY:UHUS-Pizza Volante
DESCRIPTION:Junioren U14: Pool G
LOCATION:  
DTSTART;TZID=Europe/Helsinki:
DURATION: P0M
GEO:;
END:VEVENT

BEGIN:VEVENT
SUMMARY:Pizza Volante-Äitschbees
DESCRIPTION:Junioren U14: Pool G
LOCATION:  
DTSTART;TZID=Europe/Helsinki:
DURATION: P0M
GEO:;
END:VEVENT

BEGIN:VEVENT
SUMMARY:Pizza Volante 2-Bad Girls & Boys
DESCRIPTION:Junioren U14: Pool H
LOCATION:  
DTSTART;TZID=Europe/Helsinki:
DURATION: P0M
GEO:;
END:VEVENT

BEGIN:VEVENT
SUMMARY:Ars Ludendi-Pizza Volante 2
DESCRIPTION:Junioren U14: Pool H
LOCATION:  
DTSTART;TZID=Europe/Helsinki:
DURATION: P0M
GEO:;
END:VEVENT

BEGIN:VEVENT
SUMMARY:Pizza Volante 2-Greenhorns
DESCRIPTION:Junioren U14: Pool H
LOCATION:  
DTSTART;TZID=Europe/Helsinki:
DURATION: P0M
GEO:;
END:VEVENT

BEGIN:VEVENT
SUMMARY:Bad Girls & Boys-Greenhorns
DESCRIPTION:Junioren U14: Pool H
LOCATION:  
DTSTART;TZID=Europe/Helsinki:
DURATION: P0M
GEO:;
END:VEVENT

BEGIN:VEVENT
SUMMARY:Greenhorns-Ars Ludendi
DESCRIPTION:Junioren U14: Pool H
LOCATION:  
DTSTART;TZID=Europe/Helsinki:
DURATION: P0M
GEO:;
END:VEVENT

BEGIN:VEVENT
SUMMARY:Ars Ludendi-Bad Girls & Boys
DESCRIPTION:Junioren U14: Pool H
LOCATION:  
DTSTART;TZID=Europe/Helsinki:
DURATION: P0M
GEO:;
END:VEVENT

BEGIN:VEVENT
SUMMARY:Äitschbees-Bad Girls & Boys
DESCRIPTION:Junioren U14: Überkreuz
LOCATION:  
DTSTART;TZID=Europe/Helsinki:
DURATION: P0M
GEO:;
END:VEVENT

BEGIN:VEVENT
SUMMARY:UFO-Pizza Volante 2
DESCRIPTION:Junioren U14: Überkreuz
LOCATION:  
DTSTART;TZID=Europe/Helsinki:
DURATION: P0M
GEO:;
END:VEVENT

BEGIN:VEVENT
SUMMARY:Bad Raps-UFO
DESCRIPTION:Junioren U14: Plätze 1-4
LOCATION:  
DTSTART;TZID=Europe/Helsinki:
DURATION: P0M
GEO:;
END:VEVENT

BEGIN:VEVENT
SUMMARY:Ars Ludendi-Äitschbees
DESCRIPTION:Junioren U14: Plätze 1-4
LOCATION:  
DTSTART;TZID=Europe/Helsinki:
DURATION: P0M
GEO:;
END:VEVENT

BEGIN:VEVENT
SUMMARY:Bad Raps-Äitschbees
DESCRIPTION:Junioren U14: Plätze 1-4 Finals
LOCATION:  
DTSTART;TZID=Europe/Helsinki:
DURATION: P0M
GEO:;
END:VEVENT

BEGIN:VEVENT
SUMMARY:UFO-Ars Ludendi
DESCRIPTION:Junioren U14: Plätze 1-4 Finals
LOCATION:  
DTSTART;TZID=Europe/Helsinki:
DURATION: P0M
GEO:;
END:VEVENT

BEGIN:VEVENT
SUMMARY:Bad Girls & Boys-Pizza Volante 2
DESCRIPTION:Junioren U14: Platz 5
LOCATION:  
DTSTART;TZID=Europe/Helsinki:
DURATION: P0M
GEO:;
END:VEVENT

BEGIN:VEVENT
SUMMARY:Greenhorns-UHUS
DESCRIPTION:Junioren U14: Plätze 7-9
LOCATION:  
DTSTART;TZID=Europe/Helsinki:
DURATION: P0M
GEO:;
END:VEVENT

BEGIN:VEVENT
SUMMARY:UHUS-Pizza Volante
DESCRIPTION:Junioren U14: Plätze 7-9
LOCATION:  
DTSTART;TZID=Europe/Helsinki:
DURATION: P0M
GEO:;
END:VEVENT

BEGIN:VEVENT
SUMMARY:Pizza Volante-Greenhorns
DESCRIPTION:Junioren U14: Plätze 7-9
LOCATION:  
DTSTART;TZID=Europe/Helsinki:
DURATION: P0M
GEO:;
END:VEVENT

END:VCALENDAR
