BEGIN:VCALENDAR
VERSION:2.0
PRODID: Ultiorganizer


BEGIN:VEVENT
SUMMARY:Ars Ludendi-Frau Rauscher & the Bembelboyz
DESCRIPTION:Mixed 1. Liga: Pool A
LOCATION: ASV Köln 1
DTSTART;TZID=Europe/Berlin:20161126T090000
DURATION: P50M
GEO:50.9348983764648;6.8826909065247
END:VEVENT

BEGIN:VEVENT
SUMMARY:Huck Jemischtet-Mainzelrenner
DESCRIPTION:Mixed 1. Liga: Pool A
LOCATION: ASV Köln 1
DTSTART;TZID=Europe/Berlin:20161126T095000
DURATION: P50M
GEO:50.9348983764648;6.8826909065247
END:VEVENT

BEGIN:VEVENT
SUMMARY:Huck Jemischtet-Ars Ludendi
DESCRIPTION:Mixed 1. Liga: Pool A
LOCATION: ASV Köln 1
DTSTART;TZID=Europe/Berlin:20161126T122000
DURATION: P50M
GEO:50.9348983764648;6.8826909065247
END:VEVENT

BEGIN:VEVENT
SUMMARY:Mainzelrenner-Frau Rauscher & the Bembelboyz
DESCRIPTION:Mixed 1. Liga: Pool A
LOCATION: ASV Köln 1
DTSTART;TZID=Europe/Berlin:20161126T131000
DURATION: P50M
GEO:50.9348983764648;6.8826909065247
END:VEVENT

BEGIN:VEVENT
SUMMARY:Mainzelrenner-Ars Ludendi
DESCRIPTION:Mixed 1. Liga: Pool A
LOCATION: ASV Köln 1
DTSTART;TZID=Europe/Berlin:20161126T154000
DURATION: P50M
GEO:50.9348983764648;6.8826909065247
END:VEVENT

BEGIN:VEVENT
SUMMARY:Frau Rauscher & the Bembelboyz-Huck Jemischtet
DESCRIPTION:Mixed 1. Liga: Pool A
LOCATION: ASV Köln 1
DTSTART;TZID=Europe/Berlin:20161126T163000
DURATION: P50M
GEO:50.9348983764648;6.8826909065247
END:VEVENT

BEGIN:VEVENT
SUMMARY:Drehst'n Deckel-Disc-O-Fever
DESCRIPTION:Mixed 1. Liga: Pool B
LOCATION: ASV Köln 1
DTSTART;TZID=Europe/Berlin:20161126T104000
DURATION: P50M
GEO:50.9348983764648;6.8826909065247
END:VEVENT

BEGIN:VEVENT
SUMMARY:Frümix Köln-Hässliche Erdferkel
DESCRIPTION:Mixed 1. Liga: Pool B
LOCATION: ASV Köln 1
DTSTART;TZID=Europe/Berlin:20161126T113000
DURATION: P50M
GEO:50.9348983764648;6.8826909065247
END:VEVENT

BEGIN:VEVENT
SUMMARY:Frümix Köln-Drehst'n Deckel
DESCRIPTION:Mixed 1. Liga: Pool B
LOCATION: ASV Köln 1
DTSTART;TZID=Europe/Berlin:20161126T140000
DURATION: P50M
GEO:50.9348983764648;6.8826909065247
END:VEVENT

BEGIN:VEVENT
SUMMARY:Hässliche Erdferkel-Disc-O-Fever
DESCRIPTION:Mixed 1. Liga: Pool B
LOCATION: ASV Köln 1
DTSTART;TZID=Europe/Berlin:20161126T145000
DURATION: P50M
GEO:50.9348983764648;6.8826909065247
END:VEVENT

BEGIN:VEVENT
SUMMARY:Hässliche Erdferkel-Drehst'n Deckel
DESCRIPTION:Mixed 1. Liga: Pool B
LOCATION: ASV Köln 1
DTSTART;TZID=Europe/Berlin:20161126T172000
DURATION: P50M
GEO:50.9348983764648;6.8826909065247
END:VEVENT

BEGIN:VEVENT
SUMMARY:Disc-O-Fever-Frümix Köln
DESCRIPTION:Mixed 1. Liga: Pool B
LOCATION: ASV Köln 1
DTSTART;TZID=Europe/Berlin:20161126T181000
DURATION: P50M
GEO:50.9348983764648;6.8826909065247
END:VEVENT

BEGIN:VEVENT
SUMMARY:Mainzelrenner-Disc-O-Fever
DESCRIPTION:Mixed 1. Liga: Finale 1-4
LOCATION: ASV Köln 1
DTSTART;TZID=Europe/Berlin:20161127T104000
DURATION: P50M
GEO:50.9348983764648;6.8826909065247
END:VEVENT

BEGIN:VEVENT
SUMMARY:Hässliche Erdferkel-Ars Ludendi
DESCRIPTION:Mixed 1. Liga: Finale 1-4
LOCATION: ASV Köln 1
DTSTART;TZID=Europe/Berlin:20161127T113000
DURATION: P50M
GEO:50.9348983764648;6.8826909065247
END:VEVENT

BEGIN:VEVENT
SUMMARY:Mainzelrenner-Ars Ludendi
DESCRIPTION:Mixed 1. Liga: Finale 1-4 Finals
LOCATION: ASV Köln 1
DTSTART;TZID=Europe/Berlin:20161127T140000
DURATION: P50M
GEO:50.9348983764648;6.8826909065247
END:VEVENT

BEGIN:VEVENT
SUMMARY:Disc-O-Fever-Hässliche Erdferkel
DESCRIPTION:Mixed 1. Liga: Finale 1-4 Finals
LOCATION: ASV Köln 1
DTSTART;TZID=Europe/Berlin:20161127T145000
DURATION: P50M
GEO:50.9348983764648;6.8826909065247
END:VEVENT

BEGIN:VEVENT
SUMMARY:Huck Jemischtet-Drehst'n Deckel
DESCRIPTION:Mixed 1. Liga: Finale 5-8
LOCATION: ASV Köln 1
DTSTART;TZID=Europe/Berlin:20161127T090000
DURATION: P50M
GEO:50.9348983764648;6.8826909065247
END:VEVENT

BEGIN:VEVENT
SUMMARY:Frau Rauscher & the Bembelboyz-Frümix Köln
DESCRIPTION:Mixed 1. Liga: Finale 5-8
LOCATION: ASV Köln 1
DTSTART;TZID=Europe/Berlin:20161127T095000
DURATION: P50M
GEO:50.9348983764648;6.8826909065247
END:VEVENT

BEGIN:VEVENT
SUMMARY:Frümix Köln-Huck Jemischtet
DESCRIPTION:Mixed 1. Liga: Finale 5-8
LOCATION: ASV Köln 1
DTSTART;TZID=Europe/Berlin:20161127T122000
DURATION: P50M
GEO:50.9348983764648;6.8826909065247
END:VEVENT

BEGIN:VEVENT
SUMMARY:Frau Rauscher & the Bembelboyz-Drehst'n Deckel
DESCRIPTION:Mixed 1. Liga: Finale 5-8
LOCATION: ASV Köln 1
DTSTART;TZID=Europe/Berlin:20161127T131000
DURATION: P50M
GEO:50.9348983764648;6.8826909065247
END:VEVENT

END:VCALENDAR
