BEGIN:VCALENDAR
VERSION:2.0
PRODID: Ultiorganizer


BEGIN:VEVENT
SUMMARY:Die 7 Todsünden-Caracals
DESCRIPTION:Mixed 3. Liga Nordwest: Pool A
LOCATION: Bochum 1
DTSTART;TZID=Europe/Berlin:20171202T090000
DURATION: P50M
GEO:51.4818458557129;7.2162361145020
END:VEVENT

BEGIN:VEVENT
SUMMARY:Bonnsai-Funatics
DESCRIPTION:Mixed 3. Liga Nordwest: Pool A
LOCATION: Bochum 1
DTSTART;TZID=Europe/Berlin:20171202T095000
DURATION: P50M
GEO:51.4818458557129;7.2162361145020
END:VEVENT

BEGIN:VEVENT
SUMMARY:Bonnsai-Die 7 Todsünden
DESCRIPTION:Mixed 3. Liga Nordwest: Pool A
LOCATION: Bochum 1
DTSTART;TZID=Europe/Berlin:20171202T122000
DURATION: P50M
GEO:51.4818458557129;7.2162361145020
END:VEVENT

BEGIN:VEVENT
SUMMARY:Funatics-Caracals
DESCRIPTION:Mixed 3. Liga Nordwest: Pool A
LOCATION: Bochum 1
DTSTART;TZID=Europe/Berlin:20171202T131000
DURATION: P50M
GEO:51.4818458557129;7.2162361145020
END:VEVENT

BEGIN:VEVENT
SUMMARY:Funatics-Die 7 Todsünden
DESCRIPTION:Mixed 3. Liga Nordwest: Pool A
LOCATION: Bochum 1
DTSTART;TZID=Europe/Berlin:20171202T154000
DURATION: P50M
GEO:51.4818458557129;7.2162361145020
END:VEVENT

BEGIN:VEVENT
SUMMARY:Caracals-Bonnsai
DESCRIPTION:Mixed 3. Liga Nordwest: Pool A
LOCATION: Bochum 1
DTSTART;TZID=Europe/Berlin:20171202T163000
DURATION: P50M
GEO:51.4818458557129;7.2162361145020
END:VEVENT

BEGIN:VEVENT
SUMMARY:Frühmix 2-Bonobos
DESCRIPTION:Mixed 3. Liga Nordwest: Pool B
LOCATION: Bochum 1
DTSTART;TZID=Europe/Berlin:20171202T104000
DURATION: P50M
GEO:51.4818458557129;7.2162361145020
END:VEVENT

BEGIN:VEVENT
SUMMARY:Deine Mudder Bremen-Fischkutter
DESCRIPTION:Mixed 3. Liga Nordwest: Pool B
LOCATION: Bochum 1
DTSTART;TZID=Europe/Berlin:20171202T113000
DURATION: P50M
GEO:51.4818458557129;7.2162361145020
END:VEVENT

BEGIN:VEVENT
SUMMARY:Deine Mudder Bremen-Frühmix 2
DESCRIPTION:Mixed 3. Liga Nordwest: Pool B
LOCATION: Bochum 1
DTSTART;TZID=Europe/Berlin:20171202T140000
DURATION: P50M
GEO:51.4818458557129;7.2162361145020
END:VEVENT

BEGIN:VEVENT
SUMMARY:Fischkutter-Bonobos
DESCRIPTION:Mixed 3. Liga Nordwest: Pool B
LOCATION: Bochum 1
DTSTART;TZID=Europe/Berlin:20171202T145000
DURATION: P50M
GEO:51.4818458557129;7.2162361145020
END:VEVENT

BEGIN:VEVENT
SUMMARY:Fischkutter-Frühmix 2
DESCRIPTION:Mixed 3. Liga Nordwest: Pool B
LOCATION: Bochum 1
DTSTART;TZID=Europe/Berlin:20171202T172000
DURATION: P50M
GEO:51.4818458557129;7.2162361145020
END:VEVENT

BEGIN:VEVENT
SUMMARY:Bonobos-Deine Mudder Bremen
DESCRIPTION:Mixed 3. Liga Nordwest: Pool B
LOCATION: Bochum 1
DTSTART;TZID=Europe/Berlin:20171202T181000
DURATION: P50M
GEO:51.4818458557129;7.2162361145020
END:VEVENT

BEGIN:VEVENT
SUMMARY:Die 7 Todsünden-Deine Mudder Bremen
DESCRIPTION:Mixed 3. Liga Nordwest: Playoffs 1-4
LOCATION: Bochum 1
DTSTART;TZID=Europe/Berlin:20171203T104000
DURATION: P50M
GEO:51.4818458557129;7.2162361145020
END:VEVENT

BEGIN:VEVENT
SUMMARY:Bonobos-Bonnsai
DESCRIPTION:Mixed 3. Liga Nordwest: Playoffs 1-4
LOCATION: Bochum 1
DTSTART;TZID=Europe/Berlin:20171203T113000
DURATION: P50M
GEO:51.4818458557129;7.2162361145020
END:VEVENT

BEGIN:VEVENT
SUMMARY:Deine Mudder Bremen-Bonobos
DESCRIPTION:Mixed 3. Liga Nordwest: Playoffs 1-4 Finals
LOCATION: Bochum 1
DTSTART;TZID=Europe/Berlin:20171203T140000
DURATION: P50M
GEO:51.4818458557129;7.2162361145020
END:VEVENT

BEGIN:VEVENT
SUMMARY:Die 7 Todsünden-Bonnsai
DESCRIPTION:Mixed 3. Liga Nordwest: Playoffs 1-4 Finals
LOCATION: Bochum 1
DTSTART;TZID=Europe/Berlin:20171203T145000
DURATION: P50M
GEO:51.4818458557129;7.2162361145020
END:VEVENT

BEGIN:VEVENT
SUMMARY:Caracals-Frühmix 2
DESCRIPTION:Mixed 3. Liga Nordwest: RR 5-8
LOCATION: Bochum 1
DTSTART;TZID=Europe/Berlin:20171203T090000
DURATION: P50M
GEO:51.4818458557129;7.2162361145020
END:VEVENT

BEGIN:VEVENT
SUMMARY:Funatics-Fischkutter
DESCRIPTION:Mixed 3. Liga Nordwest: RR 5-8
LOCATION: Bochum 1
DTSTART;TZID=Europe/Berlin:20171203T095000
DURATION: P50M
GEO:51.4818458557129;7.2162361145020
END:VEVENT

BEGIN:VEVENT
SUMMARY:Fischkutter-Caracals
DESCRIPTION:Mixed 3. Liga Nordwest: RR 5-8
LOCATION: Bochum 1
DTSTART;TZID=Europe/Berlin:20171203T122000
DURATION: P50M
GEO:51.4818458557129;7.2162361145020
END:VEVENT

BEGIN:VEVENT
SUMMARY:Funatics-Frühmix 2
DESCRIPTION:Mixed 3. Liga Nordwest: RR 5-8
LOCATION: Bochum 1
DTSTART;TZID=Europe/Berlin:20171203T131000
DURATION: P50M
GEO:51.4818458557129;7.2162361145020
END:VEVENT

END:VCALENDAR
