BEGIN:VCALENDAR
VERSION:2.0
PRODID: Ultiorganizer


BEGIN:VEVENT
SUMMARY:Stoneheads Chemnitz-Schleudertrauma
DESCRIPTION:3. Liga Nord-Ost Mixed, Indoor: Pool A
LOCATION: Leipzig 1
DTSTART;TZID=Europe/Berlin:20260207T090000
DURATION: P50M
GEO:51.3396949768066;12.3730745315552
END:VEVENT

BEGIN:VEVENT
SUMMARY:Saxy Divers-Hund Flach Werfen
DESCRIPTION:3. Liga Nord-Ost Mixed, Indoor: Pool A
LOCATION: Leipzig 1
DTSTART;TZID=Europe/Berlin:20260207T095000
DURATION: P50M
GEO:51.3396949768066;12.3730745315552
END:VEVENT

BEGIN:VEVENT
SUMMARY:Saxy Divers-Stoneheads Chemnitz
DESCRIPTION:3. Liga Nord-Ost Mixed, Indoor: Pool A
LOCATION: Leipzig 1
DTSTART;TZID=Europe/Berlin:20260207T122000
DURATION: P50M
GEO:51.3396949768066;12.3730745315552
END:VEVENT

BEGIN:VEVENT
SUMMARY:Hund Flach Werfen-Schleudertrauma
DESCRIPTION:3. Liga Nord-Ost Mixed, Indoor: Pool A
LOCATION: Leipzig 1
DTSTART;TZID=Europe/Berlin:20260207T131000
DURATION: P50M
GEO:51.3396949768066;12.3730745315552
END:VEVENT

BEGIN:VEVENT
SUMMARY:Hund Flach Werfen-Stoneheads Chemnitz
DESCRIPTION:3. Liga Nord-Ost Mixed, Indoor: Pool A
LOCATION: Leipzig 1
DTSTART;TZID=Europe/Berlin:20260207T154000
DURATION: P50M
GEO:51.3396949768066;12.3730745315552
END:VEVENT

BEGIN:VEVENT
SUMMARY:Schleudertrauma-Saxy Divers
DESCRIPTION:3. Liga Nord-Ost Mixed, Indoor: Pool A
LOCATION: Leipzig 1
DTSTART;TZID=Europe/Berlin:20260207T163000
DURATION: P50M
GEO:51.3396949768066;12.3730745315552
END:VEVENT

BEGIN:VEVENT
SUMMARY:Hucks Ultimate Club Berlin II-Privileg Sensation
DESCRIPTION:3. Liga Nord-Ost Mixed, Indoor: Pool B
LOCATION: Leipzig 1
DTSTART;TZID=Europe/Berlin:20260207T104000
DURATION: P50M
GEO:51.3396949768066;12.3730745315552
END:VEVENT

BEGIN:VEVENT
SUMMARY:Goldfingers-Endzonis Lee
DESCRIPTION:3. Liga Nord-Ost Mixed, Indoor: Pool B
LOCATION: Leipzig 1
DTSTART;TZID=Europe/Berlin:20260207T113000
DURATION: P50M
GEO:51.3396949768066;12.3730745315552
END:VEVENT

BEGIN:VEVENT
SUMMARY:Endzonis Lee-Privileg Sensation
DESCRIPTION:3. Liga Nord-Ost Mixed, Indoor: Pool B
LOCATION: Leipzig 1
DTSTART;TZID=Europe/Berlin:20260207T140000
DURATION: P50M
GEO:51.3396949768066;12.3730745315552
END:VEVENT

BEGIN:VEVENT
SUMMARY:Hucks Ultimate Club Berlin II-Goldfingers
DESCRIPTION:3. Liga Nord-Ost Mixed, Indoor: Pool B
LOCATION: Leipzig 1
DTSTART;TZID=Europe/Berlin:20260207T145000
DURATION: P50M
GEO:51.3396949768066;12.3730745315552
END:VEVENT

BEGIN:VEVENT
SUMMARY:Goldfingers-Privileg Sensation
DESCRIPTION:3. Liga Nord-Ost Mixed, Indoor: Pool B
LOCATION: Leipzig 1
DTSTART;TZID=Europe/Berlin:20260207T172000
DURATION: P50M
GEO:51.3396949768066;12.3730745315552
END:VEVENT

BEGIN:VEVENT
SUMMARY:Hucks Ultimate Club Berlin II-Endzonis Lee
DESCRIPTION:3. Liga Nord-Ost Mixed, Indoor: Pool B
LOCATION: Leipzig 1
DTSTART;TZID=Europe/Berlin:20260207T181000
DURATION: P50M
GEO:51.3396949768066;12.3730745315552
END:VEVENT

BEGIN:VEVENT
SUMMARY:Saxy Divers-Goldfingers
DESCRIPTION:3. Liga Nord-Ost Mixed, Indoor: Playoff 1-4
LOCATION: Leipzig 1
DTSTART;TZID=Europe/Berlin:20260208T104000
DURATION: P50M
GEO:51.3396949768066;12.3730745315552
END:VEVENT

BEGIN:VEVENT
SUMMARY:Privileg Sensation-Hund Flach Werfen
DESCRIPTION:3. Liga Nord-Ost Mixed, Indoor: Playoff 1-4
LOCATION: Leipzig 1
DTSTART;TZID=Europe/Berlin:20260208T113000
DURATION: P50M
GEO:51.3396949768066;12.3730745315552
END:VEVENT

BEGIN:VEVENT
SUMMARY:Goldfingers-Hund Flach Werfen
DESCRIPTION:3. Liga Nord-Ost Mixed, Indoor: Playoff 1-4 Finals
LOCATION: Leipzig 1
DTSTART;TZID=Europe/Berlin:20260208T140000
DURATION: P50M
GEO:51.3396949768066;12.3730745315552
END:VEVENT

BEGIN:VEVENT
SUMMARY:Saxy Divers-Privileg Sensation
DESCRIPTION:3. Liga Nord-Ost Mixed, Indoor: Playoff 1-4 Finals
LOCATION: Leipzig 1
DTSTART;TZID=Europe/Berlin:20260208T145000
DURATION: P50M
GEO:51.3396949768066;12.3730745315552
END:VEVENT

BEGIN:VEVENT
SUMMARY:Stoneheads Chemnitz-Endzonis Lee
DESCRIPTION:3. Liga Nord-Ost Mixed, Indoor: RR 5-8
LOCATION: Leipzig 1
DTSTART;TZID=Europe/Berlin:20260208T090000
DURATION: P50M
GEO:51.3396949768066;12.3730745315552
END:VEVENT

BEGIN:VEVENT
SUMMARY:Schleudertrauma-Hucks Ultimate Club Berlin II
DESCRIPTION:3. Liga Nord-Ost Mixed, Indoor: RR 5-8
LOCATION: Leipzig 1
DTSTART;TZID=Europe/Berlin:20260208T095000
DURATION: P50M
GEO:51.3396949768066;12.3730745315552
END:VEVENT

BEGIN:VEVENT
SUMMARY:Hucks Ultimate Club Berlin II-Stoneheads Chemnitz
DESCRIPTION:3. Liga Nord-Ost Mixed, Indoor: RR 5-8
LOCATION: Leipzig 1
DTSTART;TZID=Europe/Berlin:20260208T122000
DURATION: P50M
GEO:51.3396949768066;12.3730745315552
END:VEVENT

BEGIN:VEVENT
SUMMARY:Schleudertrauma-Endzonis Lee
DESCRIPTION:3. Liga Nord-Ost Mixed, Indoor: RR 5-8
LOCATION: Leipzig 1
DTSTART;TZID=Europe/Berlin:20260208T131000
DURATION: P50M
GEO:51.3396949768066;12.3730745315552
END:VEVENT

END:VCALENDAR
