BEGIN:VCALENDAR
VERSION:2.0
PRODID: Ultiorganizer


BEGIN:VEVENT
SUMMARY:Volksgarten Wildgänse-Hard2fisch
DESCRIPTION:Open 3. Liga Nord: Pool A
LOCATION: Leipzig 2
DTSTART;TZID=Europe/Berlin:20180630T090000
DURATION: P100M
GEO:51.3396949768066;12.3730745315552
END:VEVENT

BEGIN:VEVENT
SUMMARY:Bonnsai-Hard2fisch
DESCRIPTION:Open 3. Liga Nord: Pool A
LOCATION: Leipzig 2
DTSTART;TZID=Europe/Berlin:20180630T154000
DURATION: P100M
GEO:51.3396949768066;12.3730745315552
END:VEVENT

BEGIN:VEVENT
SUMMARY:Hard2fisch-Bonobos
DESCRIPTION:Open 3. Liga Nord: Pool A
LOCATION: Leipzig 2
DTSTART;TZID=Europe/Berlin:20180701T104000
DURATION: P100M
GEO:51.3396949768066;12.3730745315552
END:VEVENT

BEGIN:VEVENT
SUMMARY:Drehst'n Deckel-Hard2fisch
DESCRIPTION:Open 3. Liga Nord: Pool A
LOCATION: Leipzig 1
DTSTART;TZID=Europe/Berlin:20180701T140000
DURATION: P100M
GEO:51.3396949768066;12.3730745315552
END:VEVENT

BEGIN:VEVENT
SUMMARY:Schleudertrauma-Hard2fisch
DESCRIPTION:Open 3. Liga Nord: Pool A
LOCATION: Kiel 11
DTSTART;TZID=Europe/Berlin:20180908T090000
DURATION: P100M
GEO:54.3232917785645;10.1227655410767
END:VEVENT

BEGIN:VEVENT
SUMMARY:Hard2fisch-Air DJs
DESCRIPTION:Open 3. Liga Nord: Pool A
LOCATION: Kiel 11
DTSTART;TZID=Europe/Berlin:20180908T122000
DURATION: P100M
GEO:54.3232917785645;10.1227655410767
END:VEVENT

BEGIN:VEVENT
SUMMARY:Hard2fisch-Die 7 Todsünden
DESCRIPTION:Open 3. Liga Nord: Pool A
LOCATION: Kiel 12
DTSTART;TZID=Europe/Berlin:20180908T154000
DURATION: P100M
GEO:54.3232917785645;10.1227655410767
END:VEVENT

BEGIN:VEVENT
SUMMARY:Hard2fisch-Disckick
DESCRIPTION:Open 3. Liga Nord: Pool A
LOCATION: Kiel 11
DTSTART;TZID=Europe/Berlin:20180909T104000
DURATION: P100M
GEO:54.3232917785645;10.1227655410767
END:VEVENT

BEGIN:VEVENT
SUMMARY:Hard2fisch-Bonnsai
DESCRIPTION:Open 3. Liga Nord: Platz 2-3
LOCATION: Kiel 12
DTSTART;TZID=Europe/Berlin:20180909T133000
DURATION: P100M
GEO:54.3232917785645;10.1227655410767
END:VEVENT

END:VCALENDAR
