BEGIN:VCALENDAR
VERSION:2.0
PRODID: Ultiorganizer


BEGIN:VEVENT
SUMMARY:Seagulls-Black Foxx
DESCRIPTION:Damen 1. Liga: Pool A
LOCATION: Gießen 2
DTSTART;TZID=Europe/Berlin:20190727T104000
DURATION: P100M
GEO:50.5840530395508;8.6784029006958
END:VEVENT

BEGIN:VEVENT
SUMMARY:Frankas-Seagulls
DESCRIPTION:Damen 1. Liga: Pool A
LOCATION: Gießen 2
DTSTART;TZID=Europe/Berlin:20190727T140000
DURATION: P100M
GEO:50.5840530395508;8.6784029006958
END:VEVENT

BEGIN:VEVENT
SUMMARY:Woodchicas-Seagulls
DESCRIPTION:Damen 1. Liga: Pool A
LOCATION: Gießen 2
DTSTART;TZID=Europe/Berlin:20190727T172000
DURATION: P100M
GEO:50.5840530395508;8.6784029006958
END:VEVENT

BEGIN:VEVENT
SUMMARY:Seagulls-MarGie
DESCRIPTION:Damen 1. Liga: Pool A
LOCATION: Gießen 1
DTSTART;TZID=Europe/Berlin:20190728T104000
DURATION: P100M
GEO:50.5840530395508;8.6784029006958
END:VEVENT

BEGIN:VEVENT
SUMMARY:Seagulls-Mainzelmädchen
DESCRIPTION:Damen 1. Liga: Pool A
LOCATION: Gießen 1
DTSTART;TZID=Europe/Berlin:20190728T140000
DURATION: P100M
GEO:50.5840530395508;8.6784029006958
END:VEVENT

BEGIN:VEVENT
SUMMARY:JinX-Seagulls
DESCRIPTION:Damen 1. Liga: Pool A
LOCATION: Eppelheim 6
DTSTART;TZID=Europe/Berlin:20190907T090000
DURATION: P100M
GEO:49.4006271362305;8.6299171447754
END:VEVENT

BEGIN:VEVENT
SUMMARY:Seagulls-Heidelbärchen
DESCRIPTION:Damen 1. Liga: Pool A
LOCATION: Eppelheim 6
DTSTART;TZID=Europe/Berlin:20190907T122000
DURATION: P100M
GEO:49.4006271362305;8.6299171447754
END:VEVENT

BEGIN:VEVENT
SUMMARY:Seagulls-MarGie
DESCRIPTION:Damen 1. Liga: Round Robin 5-8
LOCATION: Eppelheim 5
DTSTART;TZID=Europe/Berlin:20190907T163000
DURATION: P100M
GEO:49.4006271362305;8.6299171447754
END:VEVENT

BEGIN:VEVENT
SUMMARY:Frankas-Seagulls
DESCRIPTION:Damen 1. Liga: Round Robin 5-8
LOCATION: Eppelheim 5
DTSTART;TZID=Europe/Berlin:20190908T083000
DURATION: P100M
GEO:49.4006271362305;8.6299171447754
END:VEVENT

BEGIN:VEVENT
SUMMARY:Seagulls-Black Foxx
DESCRIPTION:Damen 1. Liga: Round Robin 5-8
LOCATION: Eppelheim 6
DTSTART;TZID=Europe/Berlin:20190908T115000
DURATION: P100M
GEO:49.4006271362305;8.6299171447754
END:VEVENT

END:VCALENDAR
