BEGIN:VCALENDAR
VERSION:2.0
PRODID: Ultiorganizer


BEGIN:VEVENT
SUMMARY:Pussybären Bande-Goldfingers II
DESCRIPTION:Open 4. Liga NO: Pool A
LOCATION: Halle 1
DTSTART;TZID=Europe/Berlin:20200215T115000
DURATION: P50M
GEO:51.4969787597656;11.9688024520874
END:VEVENT

BEGIN:VEVENT
SUMMARY:Hallunken-Pussybären Bande
DESCRIPTION:Open 4. Liga NO: Pool A
LOCATION: Halle 1
DTSTART;TZID=Europe/Berlin:20200215T142000
DURATION: P50M
GEO:51.4969787597656;11.9688024520874
END:VEVENT

BEGIN:VEVENT
SUMMARY:Pussybären Bande-Huskies
DESCRIPTION:Open 4. Liga NO: Pool A
LOCATION: Halle 1
DTSTART;TZID=Europe/Berlin:20200215T160000
DURATION: P50M
GEO:51.4969787597656;11.9688024520874
END:VEVENT

BEGIN:VEVENT
SUMMARY:Pizza Volante-Pussybären Bande
DESCRIPTION:Open 4. Liga NO: Pool A
LOCATION: Halle 1
DTSTART;TZID=Europe/Berlin:20200216T105000
DURATION: P50M
GEO:51.4969787597656;11.9688024520874
END:VEVENT

BEGIN:VEVENT
SUMMARY:Pizza Volante-Pussybären Bande
DESCRIPTION:Open 4. Liga NO: Rückrunde
LOCATION: Halle 1
DTSTART;TZID=Europe/Berlin:20200216T141000
DURATION: P50M
GEO:51.4969787597656;11.9688024520874
END:VEVENT

BEGIN:VEVENT
SUMMARY:Pussybären Bande-Hallunken
DESCRIPTION:Open 4. Liga NO: Rückrunde
LOCATION: Berlin 1
DTSTART;TZID=Europe/Berlin:20200301T105000
DURATION: P50M
GEO:52.5200080871582;13.4049539566040
END:VEVENT

BEGIN:VEVENT
SUMMARY:Pussybären Bande-Goldfingers II
DESCRIPTION:Open 4. Liga NO: Rückrunde
LOCATION: Berlin 1
DTSTART;TZID=Europe/Berlin:20200301T123000
DURATION: P50M
GEO:52.5200080871582;13.4049539566040
END:VEVENT

BEGIN:VEVENT
SUMMARY:Huskies-Pussybären Bande
DESCRIPTION:Open 4. Liga NO: Rückrunde
LOCATION: Berlin 1
DTSTART;TZID=Europe/Berlin:20200301T141000
DURATION: P50M
GEO:52.5200080871582;13.4049539566040
END:VEVENT

END:VCALENDAR
