BEGIN:VCALENDAR
VERSION:2.0
PRODID: Ultiorganizer


BEGIN:VEVENT
SUMMARY:Bad Raps-Sturm & Drang
DESCRIPTION:Open 4. Liga SW: Pool A
LOCATION: Bad Rappenau 1
DTSTART;TZID=Europe/Berlin:20200125T123000
DURATION: P50M
GEO:49.2401695251465;9.1020154953003
END:VEVENT

BEGIN:VEVENT
SUMMARY:Bad Raps-Lions
DESCRIPTION:Open 4. Liga SW: Pool A
LOCATION: Bad Rappenau 1
DTSTART;TZID=Europe/Berlin:20200125T155000
DURATION: P50M
GEO:49.2401695251465;9.1020154953003
END:VEVENT

BEGIN:VEVENT
SUMMARY:Bad Raps-Gummibärchen 2
DESCRIPTION:Open 4. Liga SW: Pool A
LOCATION: Bad Rappenau 1
DTSTART;TZID=Europe/Berlin:20200126T110000
DURATION: P50M
GEO:49.2401695251465;9.1020154953003
END:VEVENT

BEGIN:VEVENT
SUMMARY:Flying Igels-Bad Raps
DESCRIPTION:Open 4. Liga SW: Pool A
LOCATION: Bad Rappenau 1
DTSTART;TZID=Europe/Berlin:20200126T151000
DURATION: P50M
GEO:49.2401695251465;9.1020154953003
END:VEVENT

BEGIN:VEVENT
SUMMARY:Ars Ludendi II-Bad Raps
DESCRIPTION:Open 4. Liga SW: Pool A
LOCATION: Eichelgartenhalle Karlsruhe 1
DTSTART;TZID=Europe/Berlin:20200229T095000
DURATION: P50M
GEO:0.0000000000000;0.0000000000000
END:VEVENT

BEGIN:VEVENT
SUMMARY:Bad Raps-LA Fakers
DESCRIPTION:Open 4. Liga SW: Pool A
LOCATION: Eichelgartenhalle Karlsruhe 1
DTSTART;TZID=Europe/Berlin:20200229T122000
DURATION: P50M
GEO:0.0000000000000;0.0000000000000
END:VEVENT

BEGIN:VEVENT
SUMMARY:Rheinos-Bad Raps
DESCRIPTION:Open 4. Liga SW: Pool A
LOCATION: Eichelgartenhalle Karlsruhe 1
DTSTART;TZID=Europe/Berlin:20200229T145000
DURATION: P50M
GEO:0.0000000000000;0.0000000000000
END:VEVENT

BEGIN:VEVENT
SUMMARY:Sturm & Drang II-Bad Raps
DESCRIPTION:Open 4. Liga SW: Pool A
LOCATION: Eichelgartenhalle Karlsruhe 1
DTSTART;TZID=Europe/Berlin:20200301T090000
DURATION: P50M
GEO:0.0000000000000;0.0000000000000
END:VEVENT

END:VCALENDAR
