BEGIN:VCALENDAR
VERSION:2.0
PRODID: Ultiorganizer


BEGIN:VEVENT
SUMMARY:Drehst'n Deckel-Hard2fisch
DESCRIPTION:Open 2. Liga Nord: Pool A
LOCATION: Bonn 1
DTSTART;TZID=Europe/Berlin:20210911T090000
DURATION: P100M
GEO:50.7374305725098;7.0982069969177
END:VEVENT

BEGIN:VEVENT
SUMMARY:Hard2fisch-Frühsport 02
DESCRIPTION:Open 2. Liga Nord: Pool A
LOCATION: Bonn 2
DTSTART;TZID=Europe/Berlin:20210911T111000
DURATION: P100M
GEO:50.7374305725098;7.0982069969177
END:VEVENT

BEGIN:VEVENT
SUMMARY:Bonnsai-Hard2fisch
DESCRIPTION:Open 2. Liga Nord: Pool A
LOCATION: Bonn 1
DTSTART;TZID=Europe/Berlin:20210911T153000
DURATION: P100M
GEO:50.7374305725098;7.0982069969177
END:VEVENT

BEGIN:VEVENT
SUMMARY:Hard2fisch-Family Ultimate
DESCRIPTION:Open 2. Liga Nord: Pool A
LOCATION: Bonn 1
DTSTART;TZID=Europe/Berlin:20210912T111000
DURATION: P100M
GEO:50.7374305725098;7.0982069969177
END:VEVENT

BEGIN:VEVENT
SUMMARY:Funatics-Hard2fisch
DESCRIPTION:Open 2. Liga Nord: Pool A
LOCATION: Bonn 1
DTSTART;TZID=Europe/Berlin:20210912T132000
DURATION: P100M
GEO:50.7374305725098;7.0982069969177
END:VEVENT

END:VCALENDAR
