BEGIN:VCALENDAR
VERSION:2.0
PRODID: Ultiorganizer


BEGIN:VEVENT
SUMMARY:jinX-Seagulls
DESCRIPTION:WUCC Quali Damen: Pool A
LOCATION: Berlin 1
DTSTART;TZID=Europe/Berlin:20211016T124000
DURATION: P100M
GEO:52.5200080871582;13.4049539566040
END:VEVENT

END:VCALENDAR
