BEGIN:VCALENDAR
VERSION:2.0
PRODID: Ultiorganizer


BEGIN:VEVENT
SUMMARY:Bora-Hardfisch
DESCRIPTION:DFV-Pokal Open: Pool A
LOCATION: Schwaigern 1
DTSTART;TZID=Europe/Berlin:20220521T090000
DURATION: P100M
GEO:49.1416397094727;9.0571327209473
END:VEVENT

BEGIN:VEVENT
SUMMARY:Hardfisch-Bad Skid
DESCRIPTION:DFV-Pokal Open: Pool A
LOCATION: Schwaigern 1
DTSTART;TZID=Europe/Berlin:20220521T113000
DURATION: P100M
GEO:49.1416397094727;9.0571327209473
END:VEVENT

BEGIN:VEVENT
SUMMARY:M.U.C.-Hardfisch
DESCRIPTION:DFV-Pokal Open: Finale 1-8
LOCATION: Schwaigern 2
DTSTART;TZID=Europe/Berlin:20220521T174000
DURATION: P100M
GEO:49.1416397094727;9.0571327209473
END:VEVENT

BEGIN:VEVENT
SUMMARY:Hardfisch-7 Schwaben
DESCRIPTION:DFV-Pokal Open: Finale 1-8 Semifinals
LOCATION: Kirchhausen 2
DTSTART;TZID=Europe/Berlin:20220522T090000
DURATION: P100M
GEO:49.1822204589844;9.1160774230957
END:VEVENT

BEGIN:VEVENT
SUMMARY:Goldfingers-Hardfisch
DESCRIPTION:DFV-Pokal Open: Finale 1-8 Finals
LOCATION: Kirchhausen 1
DTSTART;TZID=Europe/Berlin:20220522T122000
DURATION: P100M
GEO:49.1822204589844;9.1160774230957
END:VEVENT

END:VCALENDAR
