BEGIN:VCALENDAR
VERSION:2.0
PRODID: Ultiorganizer


BEGIN:VEVENT
SUMMARY:Hamburg Alsters-Alster2Go
DESCRIPTION:Mixed 3. Liga NW: Pool A
LOCATION: Bonn 2
DTSTART;TZID=Europe/Berlin:20220528T104000
DURATION: P100M
GEO:50.7374305725098;7.0982069969177
END:VEVENT

BEGIN:VEVENT
SUMMARY:Alster2Go-Ultimate Lions Essen
DESCRIPTION:Mixed 3. Liga NW: Pool A
LOCATION: Bonn 1
DTSTART;TZID=Europe/Berlin:20220528T140000
DURATION: P100M
GEO:50.7374305725098;7.0982069969177
END:VEVENT

BEGIN:VEVENT
SUMMARY:Caracals-Alster2Go
DESCRIPTION:Mixed 3. Liga NW: Pool A
LOCATION: Bonn 1
DTSTART;TZID=Europe/Berlin:20220528T172000
DURATION: P100M
GEO:50.7374305725098;7.0982069969177
END:VEVENT

BEGIN:VEVENT
SUMMARY:Bonnsai-Alster2Go
DESCRIPTION:Mixed 3. Liga NW: Pool A
LOCATION: Bonn 2
DTSTART;TZID=Europe/Berlin:20220529T104000
DURATION: P100M
GEO:50.7374305725098;7.0982069969177
END:VEVENT

BEGIN:VEVENT
SUMMARY:Alster2Go-Nullacht! Ultimate II
DESCRIPTION:Mixed 3. Liga NW: Pool A
LOCATION: Bonn 2
DTSTART;TZID=Europe/Berlin:20220529T140000
DURATION: P100M
GEO:50.7374305725098;7.0982069969177
END:VEVENT

BEGIN:VEVENT
SUMMARY:Alster2Go-Funatics
DESCRIPTION:Mixed 3. Liga NW: Pool A
LOCATION: Celle 1
DTSTART;TZID=Europe/Berlin:20220903T090000
DURATION: P100M
GEO:52.6238174438477;10.0778532028198
END:VEVENT

BEGIN:VEVENT
SUMMARY:RotPot-Alster2Go
DESCRIPTION:Mixed 3. Liga NW: Pool A
LOCATION: Celle 1
DTSTART;TZID=Europe/Berlin:20220903T122000
DURATION: P100M
GEO:52.6238174438477;10.0778532028198
END:VEVENT

BEGIN:VEVENT
SUMMARY:RotPot-Alster2Go
DESCRIPTION:Mixed 3. Liga NW: RR 5-8
LOCATION: Celle 1
DTSTART;TZID=Europe/Berlin:20220903T154000
DURATION: P100M
GEO:52.6238174438477;10.0778532028198
END:VEVENT

BEGIN:VEVENT
SUMMARY:Alster2Go-Ultimate Lions Essen
DESCRIPTION:Mixed 3. Liga NW: RR 5-8
LOCATION: Celle 2
DTSTART;TZID=Europe/Berlin:20220904T090000
DURATION: P100M
GEO:52.6238174438477;10.0778532028198
END:VEVENT

BEGIN:VEVENT
SUMMARY:Nullacht! Ultimate II-Alster2Go
DESCRIPTION:Mixed 3. Liga NW: RR 5-8
LOCATION: Celle 1
DTSTART;TZID=Europe/Berlin:20220904T122000
DURATION: P100M
GEO:52.6238174438477;10.0778532028198
END:VEVENT

END:VCALENDAR
