BEGIN:VCALENDAR
VERSION:2.0
PRODID: Ultiorganizer


BEGIN:VEVENT
SUMMARY:Äitschbees-Etimates
DESCRIPTION:Jugend U17: Pool A
LOCATION: Berlin  U17b
DTSTART;TZID=Europe/Berlin:20220917T093000
DURATION: P45M
GEO:52.5200080871582;13.4049539566040
END:VEVENT

BEGIN:VEVENT
SUMMARY:Etimates-Sean's Sheep
DESCRIPTION:Jugend U17: Pool A
LOCATION: Berlin  U17b
DTSTART;TZID=Europe/Berlin:20220917T110000
DURATION: P45M
GEO:52.5200080871582;13.4049539566040
END:VEVENT

BEGIN:VEVENT
SUMMARY:Etimates-Bad Raps
DESCRIPTION:Jugend U17: Pool A
LOCATION: Berlin U17a
DTSTART;TZID=Europe/Berlin:20220917T144500
DURATION: P45M
GEO:52.5200080871582;13.4049539566040
END:VEVENT

BEGIN:VEVENT
SUMMARY:Lufos-Etimates
DESCRIPTION:Jugend U17: Pool A
LOCATION: Berlin U17a
DTSTART;TZID=Europe/Berlin:20220917T161500
DURATION: P45M
GEO:52.5200080871582;13.4049539566040
END:VEVENT

BEGIN:VEVENT
SUMMARY:Cologne Colibris-Etimates
DESCRIPTION:Jugend U17: Überkreuzspiele
LOCATION: Berlin  U17
DTSTART;TZID=Europe/Berlin:20220918T094500
DURATION: P45M
GEO:52.5200080871582;13.4049539566040
END:VEVENT

BEGIN:VEVENT
SUMMARY:Piratos-Etimates
DESCRIPTION:Jugend U17: Finale 9-10
LOCATION: Berlin U17a
DTSTART;TZID=Europe/Berlin:20220918T120000
DURATION: P45M
GEO:52.5200080871582;13.4049539566040
END:VEVENT

END:VCALENDAR
