BEGIN:VCALENDAR
VERSION:2.0
PRODID: Ultiorganizer


BEGIN:VEVENT
SUMMARY:Hucks-Deine Mudder
DESCRIPTION:Open 2. Liga Nord: Pool A
LOCATION: Berlin 1
DTSTART;TZID=Europe/Berlin:20230128T090000
DURATION: P50M
GEO:52.5200080871582;13.4049539566040
END:VEVENT

BEGIN:VEVENT
SUMMARY:Hund Flach Werfen-Hucks
DESCRIPTION:Open 2. Liga Nord: Pool A
LOCATION: Berlin 1
DTSTART;TZID=Europe/Berlin:20230128T122000
DURATION: P50M
GEO:52.5200080871582;13.4049539566040
END:VEVENT

BEGIN:VEVENT
SUMMARY:Hucks-Saxy Divers
DESCRIPTION:Open 2. Liga Nord: Pool A
LOCATION: Berlin 1
DTSTART;TZID=Europe/Berlin:20230128T154000
DURATION: P50M
GEO:52.5200080871582;13.4049539566040
END:VEVENT

BEGIN:VEVENT
SUMMARY:Funatics-Hucks
DESCRIPTION:Open 2. Liga Nord: Pool A
LOCATION: Berlin 1
DTSTART;TZID=Europe/Berlin:20230129T104000
DURATION: P50M
GEO:52.5200080871582;13.4049539566040
END:VEVENT

BEGIN:VEVENT
SUMMARY:Hucks-Bonnsai
DESCRIPTION:Open 2. Liga Nord: Pool A
LOCATION: Berlin 1
DTSTART;TZID=Europe/Berlin:20230129T140000
DURATION: P50M
GEO:52.5200080871582;13.4049539566040
END:VEVENT

BEGIN:VEVENT
SUMMARY:Disckick-Hucks
DESCRIPTION:Open 2. Liga Nord: Pool A
LOCATION: Hannover 1
DTSTART;TZID=Europe/Berlin:20230225T113000
DURATION: P50M
GEO:52.3732948303223;9.7407531738281
END:VEVENT

BEGIN:VEVENT
SUMMARY:Hucks-Mad Squid
DESCRIPTION:Open 2. Liga Nord: Pool A
LOCATION: Hannover 1
DTSTART;TZID=Europe/Berlin:20230225T145000
DURATION: P50M
GEO:52.3732948303223;9.7407531738281
END:VEVENT

BEGIN:VEVENT
SUMMARY:Hucks-Disckick
DESCRIPTION:Open 2. Liga Nord: RR 5-8
LOCATION: Hannover 1
DTSTART;TZID=Europe/Berlin:20230225T163000
DURATION: P50M
GEO:52.3732948303223;9.7407531738281
END:VEVENT

BEGIN:VEVENT
SUMMARY:Mad Squid-Hucks
DESCRIPTION:Open 2. Liga Nord: RR 5-8
LOCATION: Hannover 1
DTSTART;TZID=Europe/Berlin:20230226T095000
DURATION: P50M
GEO:52.3732948303223;9.7407531738281
END:VEVENT

BEGIN:VEVENT
SUMMARY:Saxy Divers-Hucks
DESCRIPTION:Open 2. Liga Nord: RR 5-8
LOCATION: Hannover 1
DTSTART;TZID=Europe/Berlin:20230226T131000
DURATION: P50M
GEO:52.3732948303223;9.7407531738281
END:VEVENT

END:VCALENDAR
