BEGIN:VCALENDAR
VERSION:2.0
PRODID: Ultiorganizer


BEGIN:VEVENT
SUMMARY:Wall City-Hardfisch
DESCRIPTION:DFV-Pokal Open: Vorrunde 1
LOCATION: Schwaigern 2
DTSTART;TZID=Europe/Berlin:20230520T104000
DURATION: P100M
GEO:49.1416397094727;9.0571327209473
END:VEVENT

BEGIN:VEVENT
SUMMARY:Hardfisch-FrankN
DESCRIPTION:DFV-Pokal Open: Vorrunde 2
LOCATION: Schwaigern 2
DTSTART;TZID=Europe/Berlin:20230520T140000
DURATION: P100M
GEO:49.1416397094727;9.0571327209473
END:VEVENT

BEGIN:VEVENT
SUMMARY:Hardfisch-Disckick
DESCRIPTION:DFV-Pokal Open: Q9-14
LOCATION: Schwaigern 4
DTSTART;TZID=Europe/Berlin:20230520T175000
DURATION: P100M
GEO:49.1416397094727;9.0571327209473
END:VEVENT

BEGIN:VEVENT
SUMMARY:Hardfisch-Sturm und Drang
DESCRIPTION:DFV-Pokal Open: RR9-11
LOCATION: Schwaigern 3
DTSTART;TZID=Europe/Berlin:20230521T111000
DURATION: P100M
GEO:49.1416397094727;9.0571327209473
END:VEVENT

BEGIN:VEVENT
SUMMARY:7 Schwaben-Hardfisch
DESCRIPTION:DFV-Pokal Open: RR9-11
LOCATION: Schwaigern 3
DTSTART;TZID=Europe/Berlin:20230521T132000
DURATION: P100M
GEO:49.1416397094727;9.0571327209473
END:VEVENT

END:VCALENDAR
