BEGIN:VCALENDAR
VERSION:2.0
PRODID: Ultiorganizer


BEGIN:VEVENT
SUMMARY:Hucks Ultimate Club Berlin-Disckick
DESCRIPTION:Open 2. Liga Nord: Pool A
LOCATION: Bochum 2
DTSTART;TZID=Europe/Berlin:20230610T090000
DURATION: P100M
GEO:51.4818458557129;7.2162361145020
END:VEVENT

BEGIN:VEVENT
SUMMARY:Bonobos-Hucks Ultimate Club Berlin
DESCRIPTION:Open 2. Liga Nord: Pool A
LOCATION: Bochum 2
DTSTART;TZID=Europe/Berlin:20230610T122000
DURATION: P100M
GEO:51.4818458557129;7.2162361145020
END:VEVENT

BEGIN:VEVENT
SUMMARY:Bonnsai-Hucks Ultimate Club Berlin
DESCRIPTION:Open 2. Liga Nord: Pool A
LOCATION: Bochum 1
DTSTART;TZID=Europe/Berlin:20230610T154000
DURATION: P100M
GEO:51.4818458557129;7.2162361145020
END:VEVENT

BEGIN:VEVENT
SUMMARY:Hucks Ultimate Club Berlin-Frühsport 02
DESCRIPTION:Open 2. Liga Nord: Pool A
LOCATION: Bochum 2
DTSTART;TZID=Europe/Berlin:20230611T090000
DURATION: P100M
GEO:51.4818458557129;7.2162361145020
END:VEVENT

BEGIN:VEVENT
SUMMARY:Hucks Ultimate Club Berlin-Deine Mudder Bremen
DESCRIPTION:Open 2. Liga Nord: Pool A
LOCATION: Bochum 1
DTSTART;TZID=Europe/Berlin:20230611T122000
DURATION: P100M
GEO:51.4818458557129;7.2162361145020
END:VEVENT

BEGIN:VEVENT
SUMMARY:EazyEastKoast-Hucks Ultimate Club Berlin
DESCRIPTION:Open 2. Liga Nord: Pool A
LOCATION: Berlin 1
DTSTART;TZID=Europe/Berlin:20230902T090000
DURATION: P100M
GEO:52.5200080871582;13.4049539566040
END:VEVENT

BEGIN:VEVENT
SUMMARY:Funatics-Hucks Ultimate Club Berlin
DESCRIPTION:Open 2. Liga Nord: Pool A
LOCATION: Berlin 2
DTSTART;TZID=Europe/Berlin:20230902T122000
DURATION: P100M
GEO:52.5200080871582;13.4049539566040
END:VEVENT

BEGIN:VEVENT
SUMMARY:Hucks Ultimate Club Berlin-Disckick
DESCRIPTION:Open 2. Liga Nord: Finale 1-4
LOCATION: Berlin 1
DTSTART;TZID=Europe/Berlin:20230903T104000
DURATION: P100M
GEO:52.5200080871582;13.4049539566040
END:VEVENT

BEGIN:VEVENT
SUMMARY:Hucks Ultimate Club Berlin-Funatics
DESCRIPTION:Open 2. Liga Nord: Finale 1-4 Finals
LOCATION: Berlin 1
DTSTART;TZID=Europe/Berlin:20230903T140000
DURATION: P100M
GEO:52.5200080871582;13.4049539566040
END:VEVENT

END:VCALENDAR
