BEGIN:VCALENDAR
VERSION:2.0
PRODID: Ultiorganizer


BEGIN:VEVENT
SUMMARY:Sturmflut-Bonnsai
DESCRIPTION:Mixed 2. Liga Nord: Pool A
LOCATION: Lüneburg 1
DTSTART;TZID=Europe/Berlin:20230624T090000
DURATION: P100M
GEO:53.2464218139648;10.4115180969238
END:VEVENT

BEGIN:VEVENT
SUMMARY:Hund Flach Werfen-Sturmflut
DESCRIPTION:Mixed 2. Liga Nord: Pool A
LOCATION: Lüneburg 1
DTSTART;TZID=Europe/Berlin:20230624T122000
DURATION: P100M
GEO:53.2464218139648;10.4115180969238
END:VEVENT

BEGIN:VEVENT
SUMMARY:Sturmflut-Bonobos
DESCRIPTION:Mixed 2. Liga Nord: Pool A
LOCATION: Lüneburg 1
DTSTART;TZID=Europe/Berlin:20230624T154000
DURATION: P100M
GEO:53.2464218139648;10.4115180969238
END:VEVENT

BEGIN:VEVENT
SUMMARY:Sturmflut-Torpedo Phoenix
DESCRIPTION:Mixed 2. Liga Nord: Pool A
LOCATION: Lüneburg 2
DTSTART;TZID=Europe/Berlin:20230625T104000
DURATION: P100M
GEO:53.2464218139648;10.4115180969238
END:VEVENT

BEGIN:VEVENT
SUMMARY:Frühmix-Sturmflut
DESCRIPTION:Mixed 2. Liga Nord: Pool A
LOCATION: Lüneburg 1
DTSTART;TZID=Europe/Berlin:20230625T140000
DURATION: P100M
GEO:53.2464218139648;10.4115180969238
END:VEVENT

BEGIN:VEVENT
SUMMARY:Göttinger 7-Sturmflut
DESCRIPTION:Mixed 2. Liga Nord: Pool A
LOCATION: Bochum 2
DTSTART;TZID=Europe/Berlin:20230909T104000
DURATION: P100M
GEO:51.4818458557129;7.2162361145020
END:VEVENT

BEGIN:VEVENT
SUMMARY:Sturmflut-Disckick
DESCRIPTION:Mixed 2. Liga Nord: Pool A
LOCATION: Bochum 2
DTSTART;TZID=Europe/Berlin:20230909T140000
DURATION: P100M
GEO:51.4818458557129;7.2162361145020
END:VEVENT

BEGIN:VEVENT
SUMMARY:Sturmflut-Disckick
DESCRIPTION:Mixed 2. Liga Nord: Finale 1-4
LOCATION: Bochum 1
DTSTART;TZID=Europe/Berlin:20230910T111000
DURATION: P100M
GEO:51.4818458557129;7.2162361145020
END:VEVENT

BEGIN:VEVENT
SUMMARY:Sturmflut-Bonobos
DESCRIPTION:Mixed 2. Liga Nord: Finale 1-4 Finals
LOCATION: Bochum 2
DTSTART;TZID=Europe/Berlin:20230910T143000
DURATION: P100M
GEO:51.4818458557129;7.2162361145020
END:VEVENT

END:VCALENDAR
