BEGIN:VCALENDAR
VERSION:2.0
PRODID: Ultiorganizer


BEGIN:VEVENT
SUMMARY:Hamburg Alsters-Sunblocker Oldenburg
DESCRIPTION:Mixed 3. Liga NW: Pool A
LOCATION: Münster 1
DTSTART;TZID=Europe/Berlin:20230624T100000
DURATION: P100M
GEO:0.0000000000000;0.0000000000000
END:VEVENT

BEGIN:VEVENT
SUMMARY:LBV Phönix 1903 e.V. - Baltimate-Hamburg Alsters
DESCRIPTION:Mixed 3. Liga NW: Pool A
LOCATION: Münster 2
DTSTART;TZID=Europe/Berlin:20230624T132000
DURATION: P100M
GEO:0.0000000000000;0.0000000000000
END:VEVENT

BEGIN:VEVENT
SUMMARY:Hamburg Alsters-Funatics
DESCRIPTION:Mixed 3. Liga NW: Pool A
LOCATION: Münster 2
DTSTART;TZID=Europe/Berlin:20230624T164000
DURATION: P100M
GEO:0.0000000000000;0.0000000000000
END:VEVENT

BEGIN:VEVENT
SUMMARY:Hamburg Alsters-RotPot
DESCRIPTION:Mixed 3. Liga NW: Pool A
LOCATION: Münster 1
DTSTART;TZID=Europe/Berlin:20230625T104000
DURATION: P100M
GEO:0.0000000000000;0.0000000000000
END:VEVENT

BEGIN:VEVENT
SUMMARY:Family Ultimate-Hamburg Alsters
DESCRIPTION:Mixed 3. Liga NW: Pool A
LOCATION: Lübeck 1
DTSTART;TZID=Europe/Berlin:20230909T090000
DURATION: P100M
GEO:53.8654670715332;10.6865596771240
END:VEVENT

BEGIN:VEVENT
SUMMARY:Caracals-Hamburg Alsters
DESCRIPTION:Mixed 3. Liga NW: Pool A
LOCATION: Lübeck 2
DTSTART;TZID=Europe/Berlin:20230909T122000
DURATION: P100M
GEO:53.8654670715332;10.6865596771240
END:VEVENT

BEGIN:VEVENT
SUMMARY:Hamburg Alsters-Ultimate Lions Essen
DESCRIPTION:Mixed 3. Liga NW: Pool A
LOCATION: Lübeck 1
DTSTART;TZID=Europe/Berlin:20230909T172000
DURATION: P100M
GEO:53.8654670715332;10.6865596771240
END:VEVENT

BEGIN:VEVENT
SUMMARY:Funatics-Hamburg Alsters
DESCRIPTION:Mixed 3. Liga NW: Spiel um Platz 1
LOCATION: Lübeck 1
DTSTART;TZID=Europe/Berlin:20230910T145000
DURATION: P100M
GEO:53.8654670715332;10.6865596771240
END:VEVENT

BEGIN:VEVENT
SUMMARY:Nullacht! Ultimate II-Hamburg Alsters
DESCRIPTION:Mixed 3. Liga NW: Pool A
LOCATION: Lübeck 1
DTSTART;TZID=Europe/Berlin:20230910T122000
DURATION: P100M
GEO:53.8654670715332;10.6865596771240
END:VEVENT

END:VCALENDAR
