BEGIN:VCALENDAR
VERSION:2.0
PRODID: Ultiorganizer


BEGIN:VEVENT
SUMMARY:Sturmflut-Funatics
DESCRIPTION:Mixed 2. Liga Nord: Pool A
LOCATION: Salzwedel 2
DTSTART;TZID=Europe/Berlin:20240629T090000
DURATION: P100M
GEO:52.8503379821777;11.1646680831909
END:VEVENT

BEGIN:VEVENT
SUMMARY:Pizza Volante Mixed-Sturmflut
DESCRIPTION:Mixed 2. Liga Nord: Pool A
LOCATION: Salzwedel 2
DTSTART;TZID=Europe/Berlin:20240629T122000
DURATION: P100M
GEO:52.8503379821777;11.1646680831909
END:VEVENT

BEGIN:VEVENT
SUMMARY:Bonnsai-Sturmflut
DESCRIPTION:Mixed 2. Liga Nord: Pool A
LOCATION: Salzwedel 1
DTSTART;TZID=Europe/Berlin:20240629T154000
DURATION: P100M
GEO:52.8503379821777;11.1646680831909
END:VEVENT

BEGIN:VEVENT
SUMMARY:Sturmflut-Hund Flach Werfen
DESCRIPTION:Mixed 2. Liga Nord: Pool A
LOCATION: Salzwedel 2
DTSTART;TZID=Europe/Berlin:20240630T090000
DURATION: P100M
GEO:52.8503379821777;11.1646680831909
END:VEVENT

BEGIN:VEVENT
SUMMARY:Sturmflut-Bonobos
DESCRIPTION:Mixed 2. Liga Nord: Pool A
LOCATION: Salzwedel 1
DTSTART;TZID=Europe/Berlin:20240630T122000
DURATION: P100M
GEO:52.8503379821777;11.1646680831909
END:VEVENT

BEGIN:VEVENT
SUMMARY:Saxy Divers-Sturmflut
DESCRIPTION:Mixed 2. Liga Nord: Pool A
LOCATION: Bochum 1
DTSTART;TZID=Europe/Berlin:20240713T090000
DURATION: P100M
GEO:51.4818458557129;7.2162361145020
END:VEVENT

BEGIN:VEVENT
SUMMARY:Göttinger 7-Sturmflut
DESCRIPTION:Mixed 2. Liga Nord: Pool A
LOCATION: Bochum 2
DTSTART;TZID=Europe/Berlin:20240713T122000
DURATION: P100M
GEO:51.4818458557129;7.2162361145020
END:VEVENT

BEGIN:VEVENT
SUMMARY:Sturmflut-Funatics
DESCRIPTION:Mixed 2. Liga Nord: Finale 1-4
LOCATION: Bochum 2
DTSTART;TZID=Europe/Berlin:20240714T104000
DURATION: P100M
GEO:51.4818458557129;7.2162361145020
END:VEVENT

BEGIN:VEVENT
SUMMARY:Pizza Volante Mixed-Sturmflut
DESCRIPTION:Mixed 2. Liga Nord: Finale 1-4 Finals
LOCATION: Bochum 1
DTSTART;TZID=Europe/Berlin:20240714T140000
DURATION: P100M
GEO:51.4818458557129;7.2162361145020
END:VEVENT

END:VCALENDAR
