BEGIN:VCALENDAR
VERSION:2.0
PRODID: Ultiorganizer


BEGIN:VEVENT
SUMMARY:Pizza Volante-Disckick
DESCRIPTION:U20 Quali NO: Pool A
LOCATION: Leipzig 3
DTSTART;TZID=Europe/Berlin:20250111T114000
DURATION: P40M
GEO:51.3396949768066;12.3730745315552
END:VEVENT

BEGIN:VEVENT
SUMMARY:Disckick-Pizza Volante II
DESCRIPTION:U20 Quali NO: Pool A
LOCATION: Leipzig 3
DTSTART;TZID=Europe/Berlin:20250111T130000
DURATION: P40M
GEO:51.3396949768066;12.3730745315552
END:VEVENT

BEGIN:VEVENT
SUMMARY:Disckick-Pizza Volante II
DESCRIPTION:U20 Quali NO: Semi
LOCATION: Leipzig 3
DTSTART;TZID=Europe/Berlin:20250111T142000
DURATION: P40M
GEO:51.3396949768066;12.3730745315552
END:VEVENT

BEGIN:VEVENT
SUMMARY:Pizza Volante-Disckick
DESCRIPTION:U20 Quali NO: Finale
LOCATION: Leipzig 3
DTSTART;TZID=Europe/Berlin:20250111T154000
DURATION: P40M
GEO:51.3396949768066;12.3730745315552
END:VEVENT

END:VCALENDAR
