BEGIN:VCALENDAR
VERSION:2.0
PRODID: Ultiorganizer


BEGIN:VEVENT
SUMMARY:Jumpys-Windhosen Wilhelmshaven
DESCRIPTION:U14 Quali Nord: Pool U14 B
LOCATION: Bremen 1
DTSTART;TZID=Europe/Berlin:20250118T090000
DURATION: P30M
GEO:53.0792961120605;8.8016939163208
END:VEVENT

BEGIN:VEVENT
SUMMARY:JugEndzonis-Jumpys
DESCRIPTION:U14 Quali Nord: Pool U14 B
LOCATION: Bremen 1
DTSTART;TZID=Europe/Berlin:20250118T120000
DURATION: P30M
GEO:53.0792961120605;8.8016939163208
END:VEVENT

BEGIN:VEVENT
SUMMARY:Etimates-Jumpys
DESCRIPTION:U14 Quali Nord: Spiel um Platz 3
LOCATION: Bremen 1
DTSTART;TZID=Europe/Berlin:20250118T154500
DURATION: P30M
GEO:53.0792961120605;8.8016939163208
END:VEVENT

END:VCALENDAR
