BEGIN:VCALENDAR
VERSION:2.0
PRODID: Ultiorganizer


BEGIN:VEVENT
SUMMARY:JugEndzonis-Etimates
DESCRIPTION:U17 Quali Nord: Pool U17
LOCATION: Bremen 1
DTSTART;TZID=Europe/Berlin:20250118T103000
DURATION: P30M
GEO:53.0792961120605;8.8016939163208
END:VEVENT

BEGIN:VEVENT
SUMMARY:Windhosen Wilhelmshaven-JugEndzonis
DESCRIPTION:U17 Quali Nord: Pool U17
LOCATION: Bremen 1
DTSTART;TZID=Europe/Berlin:20250118T123000
DURATION: P30M
GEO:53.0792961120605;8.8016939163208
END:VEVENT

BEGIN:VEVENT
SUMMARY:JugEndzonis-Etimates
DESCRIPTION:U17 Quali Nord: Pool U17 Rückrunde
LOCATION: Bremen 1
DTSTART;TZID=Europe/Berlin:20250118T151500
DURATION: P30M
GEO:53.0792961120605;8.8016939163208
END:VEVENT

BEGIN:VEVENT
SUMMARY:Windhosen Wilhelmshaven-JugEndzonis
DESCRIPTION:U17 Quali Nord: Pool U17 Rückrunde
LOCATION: Bremen 1
DTSTART;TZID=Europe/Berlin:20250118T171500
DURATION: P30M
GEO:53.0792961120605;8.8016939163208
END:VEVENT

END:VCALENDAR
