BEGIN:VCALENDAR
VERSION:2.0
PRODID: Ultiorganizer


BEGIN:VEVENT
SUMMARY:Lufos-Junior Wolves
DESCRIPTION:U20 Quali SO: Pool A
LOCATION: München 1
DTSTART;TZID=Europe/Berlin:20250119T094000
DURATION: P40M
GEO:48.1351242065430;11.5819807052612
END:VEVENT

BEGIN:VEVENT
SUMMARY:Junior Wolves-MuH - Mir uss Haldawang
DESCRIPTION:U20 Quali SO: Pool A
LOCATION: München 1
DTSTART;TZID=Europe/Berlin:20250119T114000
DURATION: P40M
GEO:48.1351242065430;11.5819807052612
END:VEVENT

BEGIN:VEVENT
SUMMARY:Moskitos-Junior Wolves
DESCRIPTION:U20 Quali SO: Pool A
LOCATION: München 1
DTSTART;TZID=Europe/Berlin:20250119T130000
DURATION: P40M
GEO:48.1351242065430;11.5819807052612
END:VEVENT

BEGIN:VEVENT
SUMMARY:Junior Wolves-Münchner Kindl
DESCRIPTION:U20 Quali SO: Pool A
LOCATION: München 1
DTSTART;TZID=Europe/Berlin:20250119T142000
DURATION: P40M
GEO:48.1351242065430;11.5819807052612
END:VEVENT

END:VCALENDAR
