BEGIN:VCALENDAR
VERSION:2.0
PRODID: Ultiorganizer


BEGIN:VEVENT
SUMMARY:FdF Geretsried-VfL Gemmrigheim
DESCRIPTION:1. Liga Open: Pool A
LOCATION: Gemmrigheim 1
DTSTART;TZID=Europe/Berlin:20250201T095000
DURATION: P50M
GEO:0.0000000000000;0.0000000000000
END:VEVENT

BEGIN:VEVENT
SUMMARY:FdF Geretsried-KoliBros
DESCRIPTION:1. Liga Open: Pool A
LOCATION: Gemmrigheim 1
DTSTART;TZID=Europe/Berlin:20250201T122000
DURATION: P50M
GEO:0.0000000000000;0.0000000000000
END:VEVENT

BEGIN:VEVENT
SUMMARY:Hässliche Erdferkel-FdF Geretsried
DESCRIPTION:1. Liga Open: Pool A
LOCATION: Gemmrigheim 1
DTSTART;TZID=Europe/Berlin:20250201T163000
DURATION: P50M
GEO:0.0000000000000;0.0000000000000
END:VEVENT

BEGIN:VEVENT
SUMMARY:FdF Geretsried-Goldfingers
DESCRIPTION:1. Liga Open: RR 5-8
LOCATION: Gemmrigheim 1
DTSTART;TZID=Europe/Berlin:20250202T090000
DURATION: P50M
GEO:0.0000000000000;0.0000000000000
END:VEVENT

BEGIN:VEVENT
SUMMARY:Frizzly Bears-FdF Geretsried
DESCRIPTION:1. Liga Open: RR 5-8
LOCATION: Gemmrigheim 1
DTSTART;TZID=Europe/Berlin:20250202T122000
DURATION: P50M
GEO:0.0000000000000;0.0000000000000
END:VEVENT

END:VCALENDAR
