BEGIN:VCALENDAR
VERSION:2.0
PRODID: Ultiorganizer


BEGIN:VEVENT
SUMMARY:7Schwaben-Wolfsburg Wolves
DESCRIPTION:2. Liga Süd Open: Pool A
LOCATION: Kirchzarten 1
DTSTART;TZID=Europe/Berlin:20250201T095000
DURATION: P50M
GEO:0.0000000000000;0.0000000000000
END:VEVENT

BEGIN:VEVENT
SUMMARY:Wolfsburg Wolves-Paradisco
DESCRIPTION:2. Liga Süd Open: Pool A
LOCATION: Kirchzarten 1
DTSTART;TZID=Europe/Berlin:20250201T131000
DURATION: P50M
GEO:0.0000000000000;0.0000000000000
END:VEVENT

BEGIN:VEVENT
SUMMARY:Wolfsburg Wolves-Werfwölfe
DESCRIPTION:2. Liga Süd Open: Pool A
LOCATION: Kirchzarten 1
DTSTART;TZID=Europe/Berlin:20250201T154000
DURATION: P50M
GEO:0.0000000000000;0.0000000000000
END:VEVENT

BEGIN:VEVENT
SUMMARY:Wolfsburg Wolves-Heppie Frisbeez
DESCRIPTION:2. Liga Süd Open: Playoff 1-4
LOCATION: Kirchzarten 1
DTSTART;TZID=Europe/Berlin:20250202T104000
DURATION: P50M
GEO:0.0000000000000;0.0000000000000
END:VEVENT

BEGIN:VEVENT
SUMMARY:Wolfsburg Wolves-Werfwölfe
DESCRIPTION:2. Liga Süd Open: Playoff 1-4 Finals
LOCATION: Kirchzarten 1
DTSTART;TZID=Europe/Berlin:20250202T145000
DURATION: P50M
GEO:0.0000000000000;0.0000000000000
END:VEVENT

END:VCALENDAR
