BEGIN:VCALENDAR
VERSION:2.0
PRODID: Ultiorganizer


BEGIN:VEVENT
SUMMARY:Duisburg Ultimate-Bonobos
DESCRIPTION:3. Liga Nord-West Open: Pool A
LOCATION: Bremen 1
DTSTART;TZID=Europe/Berlin:20250201T095000
DURATION: P50M
GEO:53.0792961120605;8.8016939163208
END:VEVENT

BEGIN:VEVENT
SUMMARY:Duisburg Ultimate-Frisbielefeld
DESCRIPTION:3. Liga Nord-West Open: Pool A
LOCATION: Bremen 1
DTSTART;TZID=Europe/Berlin:20250201T122000
DURATION: P50M
GEO:53.0792961120605;8.8016939163208
END:VEVENT

BEGIN:VEVENT
SUMMARY:Frizzly Bears-Duisburg Ultimate
DESCRIPTION:3. Liga Nord-West Open: Pool A
LOCATION: Bremen 1
DTSTART;TZID=Europe/Berlin:20250201T163000
DURATION: P50M
GEO:53.0792961120605;8.8016939163208
END:VEVENT

BEGIN:VEVENT
SUMMARY:Duisburg Ultimate-Funatics
DESCRIPTION:3. Liga Nord-West Open: RR 5-8
LOCATION: Bremen 1
DTSTART;TZID=Europe/Berlin:20250202T090000
DURATION: P50M
GEO:53.0792961120605;8.8016939163208
END:VEVENT

BEGIN:VEVENT
SUMMARY:Bonnsai-Duisburg Ultimate
DESCRIPTION:3. Liga Nord-West Open: RR 5-8
LOCATION: Bremen 1
DTSTART;TZID=Europe/Berlin:20250202T122000
DURATION: P50M
GEO:53.0792961120605;8.8016939163208
END:VEVENT

END:VCALENDAR
