BEGIN:VCALENDAR
VERSION:2.0
PRODID: Ultiorganizer


BEGIN:VEVENT
SUMMARY:TeKielas-Caracals
DESCRIPTION:5. Liga Nord-West Open: Pool B
LOCATION: Köln 1
DTSTART;TZID=Europe/Berlin:20250201T104000
DURATION: P50M
GEO:50.9414024353027;6.9580740928650
END:VEVENT

BEGIN:VEVENT
SUMMARY:Göttinger 7-Caracals
DESCRIPTION:5. Liga Nord-West Open: Pool B
LOCATION: Köln 1
DTSTART;TZID=Europe/Berlin:20250201T145000
DURATION: P50M
GEO:50.9414024353027;6.9580740928650
END:VEVENT

BEGIN:VEVENT
SUMMARY:Caracals-Cologne Colibris
DESCRIPTION:5. Liga Nord-West Open: Pool B
LOCATION: Köln 1
DTSTART;TZID=Europe/Berlin:20250201T181000
DURATION: P50M
GEO:50.9414024353027;6.9580740928650
END:VEVENT

BEGIN:VEVENT
SUMMARY:Fischkutter-Caracals
DESCRIPTION:5. Liga Nord-West Open: RR 5-8
LOCATION: Köln 1
DTSTART;TZID=Europe/Berlin:20250202T090000
DURATION: P50M
GEO:50.9414024353027;6.9580740928650
END:VEVENT

BEGIN:VEVENT
SUMMARY:Eelectric-Caracals
DESCRIPTION:5. Liga Nord-West Open: RR 5-8
LOCATION: Köln 1
DTSTART;TZID=Europe/Berlin:20250202T131000
DURATION: P50M
GEO:50.9414024353027;6.9580740928650
END:VEVENT

END:VCALENDAR
