BEGIN:VCALENDAR
VERSION:2.0
PRODID: Ultiorganizer


BEGIN:VEVENT
SUMMARY:Frühsport 02-Göttinger 7
DESCRIPTION:5. Liga Nord-West Open: Finale 1-4
LOCATION:  
DTSTART;TZID=Europe/Berlin:
DURATION: P50M
GEO:;
END:VEVENT

BEGIN:VEVENT
SUMMARY:Frühsport 02-Siegen Zwerge
DESCRIPTION:5. Liga Nord-West Open: Finale 1-4 Finals
LOCATION:  
DTSTART;TZID=Europe/Berlin:
DURATION: P50M
GEO:;
END:VEVENT

BEGIN:VEVENT
SUMMARY:Frühsport 02-Fischkutter
DESCRIPTION:5. Liga Nord-West Open: Pool A
LOCATION: Köln 1
DTSTART;TZID=Europe/Berlin:20250201T095000
DURATION: P50M
GEO:50.9414024353027;6.9580740928650
END:VEVENT

BEGIN:VEVENT
SUMMARY:Frühsport 02-Siegen Zwerge
DESCRIPTION:5. Liga Nord-West Open: Pool A
LOCATION: Köln 1
DTSTART;TZID=Europe/Berlin:20250201T122000
DURATION: P50M
GEO:50.9414024353027;6.9580740928650
END:VEVENT

BEGIN:VEVENT
SUMMARY:Eelectric-Frühsport 02
DESCRIPTION:5. Liga Nord-West Open: Pool A
LOCATION: Köln 1
DTSTART;TZID=Europe/Berlin:20250201T163000
DURATION: P50M
GEO:50.9414024353027;6.9580740928650
END:VEVENT

END:VCALENDAR
