BEGIN:VCALENDAR
VERSION:2.0
PRODID: Ultiorganizer


BEGIN:VEVENT
SUMMARY:Stoneheads Chemnitz-Hallunken
DESCRIPTION:3. Liga Nord-Ost Mixed: Pool A
LOCATION: Berlin 1
DTSTART;TZID=Europe/Berlin:20250222T095000
DURATION: P50M
GEO:52.5200080871582;13.4049539566040
END:VEVENT

BEGIN:VEVENT
SUMMARY:Hallunken-Schleudertrauma
DESCRIPTION:3. Liga Nord-Ost Mixed: Pool A
LOCATION: Berlin 1
DTSTART;TZID=Europe/Berlin:20250222T131000
DURATION: P50M
GEO:52.5200080871582;13.4049539566040
END:VEVENT

BEGIN:VEVENT
SUMMARY:Hallunken-Drehst'n Deckel
DESCRIPTION:3. Liga Nord-Ost Mixed: Pool A
LOCATION: Berlin 1
DTSTART;TZID=Europe/Berlin:20250222T154000
DURATION: P50M
GEO:52.5200080871582;13.4049539566040
END:VEVENT

BEGIN:VEVENT
SUMMARY:Hallunken-Endzonis
DESCRIPTION:3. Liga Nord-Ost Mixed: RR 5-8
LOCATION: Berlin 1
DTSTART;TZID=Europe/Berlin:20250223T090000
DURATION: P50M
GEO:52.5200080871582;13.4049539566040
END:VEVENT

BEGIN:VEVENT
SUMMARY:Saxy Divers-Hallunken
DESCRIPTION:3. Liga Nord-Ost Mixed: RR 5-8
LOCATION: Berlin 1
DTSTART;TZID=Europe/Berlin:20250223T122000
DURATION: P50M
GEO:52.5200080871582;13.4049539566040
END:VEVENT

END:VCALENDAR
