BEGIN:VCALENDAR
VERSION:2.0
PRODID: Ultiorganizer


BEGIN:VEVENT
SUMMARY:Saxy Divers-Goldfingers
DESCRIPTION:3. Liga Nord-Ost Mixed: Pool B
LOCATION: Berlin 1
DTSTART;TZID=Europe/Berlin:20250222T113000
DURATION: P50M
GEO:52.5200080871582;13.4049539566040
END:VEVENT

BEGIN:VEVENT
SUMMARY:Goldfingers-Hucks Ultimate Club Berlin 2
DESCRIPTION:3. Liga Nord-Ost Mixed: Pool B
LOCATION: Berlin 1
DTSTART;TZID=Europe/Berlin:20250222T145000
DURATION: P50M
GEO:52.5200080871582;13.4049539566040
END:VEVENT

BEGIN:VEVENT
SUMMARY:Goldfingers-Endzonis
DESCRIPTION:3. Liga Nord-Ost Mixed: Pool B
LOCATION: Berlin 1
DTSTART;TZID=Europe/Berlin:20250222T172000
DURATION: P50M
GEO:52.5200080871582;13.4049539566040
END:VEVENT

BEGIN:VEVENT
SUMMARY:Goldfingers-Schleudertrauma
DESCRIPTION:3. Liga Nord-Ost Mixed: Playoff 1-4
LOCATION: Berlin 1
DTSTART;TZID=Europe/Berlin:20250223T113000
DURATION: P50M
GEO:52.5200080871582;13.4049539566040
END:VEVENT

BEGIN:VEVENT
SUMMARY:Drehst'n Deckel-Goldfingers
DESCRIPTION:3. Liga Nord-Ost Mixed: Playoff 1-4 Finals
LOCATION: Berlin 1
DTSTART;TZID=Europe/Berlin:20250223T145000
DURATION: P50M
GEO:52.5200080871582;13.4049539566040
END:VEVENT

END:VCALENDAR
