BEGIN:VCALENDAR
VERSION:2.0
PRODID: Ultiorganizer


BEGIN:VEVENT
SUMMARY:Air Support-Hässliche Erdferkel 2
DESCRIPTION:5. Liga Süd-West Mixed: Pool B
LOCATION: Marburg 1
DTSTART;TZID=Europe/Berlin:20250222T113000
DURATION: P50M
GEO:50.8101119995117;8.7667036056519
END:VEVENT

BEGIN:VEVENT
SUMMARY:Air Support-Heidees II
DESCRIPTION:5. Liga Süd-West Mixed: Pool B
LOCATION: Marburg 1
DTSTART;TZID=Europe/Berlin:20250222T140000
DURATION: P50M
GEO:50.8101119995117;8.7667036056519
END:VEVENT

BEGIN:VEVENT
SUMMARY:SugarMix-Air Support
DESCRIPTION:5. Liga Süd-West Mixed: Pool B
LOCATION: Marburg 1
DTSTART;TZID=Europe/Berlin:20250222T181000
DURATION: P50M
GEO:50.8101119995117;8.7667036056519
END:VEVENT

BEGIN:VEVENT
SUMMARY:Colorado 3-Air Support
DESCRIPTION:5. Liga Süd-West Mixed: Playoff 1-4
LOCATION: Marburg 1
DTSTART;TZID=Europe/Berlin:20250223T104000
DURATION: P50M
GEO:50.8101119995117;8.7667036056519
END:VEVENT

BEGIN:VEVENT
SUMMARY:Air Support-SugarMix
DESCRIPTION:5. Liga Süd-West Mixed: Playoff 1-4 Finals
LOCATION: Marburg 1
DTSTART;TZID=Europe/Berlin:20250223T145000
DURATION: P50M
GEO:50.8101119995117;8.7667036056519
END:VEVENT

END:VCALENDAR
