BEGIN:VCALENDAR
VERSION:2.0
PRODID: Ultiorganizer


BEGIN:VEVENT
SUMMARY:TeKielas Ostseekids-Frizzly Bears Frizzlies
DESCRIPTION:U14 Junioren: Pool B
LOCATION: Aachen 1
DTSTART;TZID=Europe/Berlin:20250322T113000
DURATION: P30M
GEO:50.7753448486328;6.0838866233826
END:VEVENT

BEGIN:VEVENT
SUMMARY:Windhosen Wilhelmshaven-TeKielas Ostseekids
DESCRIPTION:U14 Junioren: Pool B
LOCATION: Aachen 1
DTSTART;TZID=Europe/Berlin:20250322T133000
DURATION: P30M
GEO:50.7753448486328;6.0838866233826
END:VEVENT

BEGIN:VEVENT
SUMMARY:TeKielas Ostseekids-Bad Raps
DESCRIPTION:U14 Junioren: Pool B
LOCATION: Aachen 1
DTSTART;TZID=Europe/Berlin:20250322T163000
DURATION: P30M
GEO:50.7753448486328;6.0838866233826
END:VEVENT

BEGIN:VEVENT
SUMMARY:Juniorwolves-TeKielas Ostseekids
DESCRIPTION:U14 Junioren: Pool B
LOCATION: Aachen 1
DTSTART;TZID=Europe/Berlin:20250322T183000
DURATION: P30M
GEO:50.7753448486328;6.0838866233826
END:VEVENT

BEGIN:VEVENT
SUMMARY:Pizza Volante-TeKielas Ostseekids
DESCRIPTION:U14 Junioren: Zwischenrunde
LOCATION: Aachen 1
DTSTART;TZID=Europe/Berlin:20250323T093000
DURATION: P30M
GEO:50.7753448486328;6.0838866233826
END:VEVENT

BEGIN:VEVENT
SUMMARY:TeKielas Ostseekids-Frizzly Bears FRESHlies
DESCRIPTION:U14 Junioren: Spiel um Platz 9
LOCATION: Aachen 1
DTSTART;TZID=Europe/Berlin:20250323T123000
DURATION: P30M
GEO:50.7753448486328;6.0838866233826
END:VEVENT

END:VCALENDAR
