BEGIN:VCALENDAR
VERSION:2.0
PRODID: Ultiorganizer


BEGIN:VEVENT
SUMMARY:FdF Geretsried-Goldfingers
DESCRIPTION:DFV-Pokal Mixed: Runde 1
LOCATION: München 3
DTSTART;TZID=Europe/Berlin:20250712T090000
DURATION: P100M
GEO:48.1351242065430;11.5819807052612
END:VEVENT

BEGIN:VEVENT
SUMMARY:Frühmix-Goldfingers
DESCRIPTION:DFV-Pokal Mixed: Runde 2
LOCATION: München 4
DTSTART;TZID=Europe/Berlin:20250712T125000
DURATION: P100M
GEO:48.1351242065430;11.5819807052612
END:VEVENT

BEGIN:VEVENT
SUMMARY:Goldfingers-Baltimate Lübeck
DESCRIPTION:DFV-Pokal Mixed: Viertelfinale
LOCATION: München 1
DTSTART;TZID=Europe/Berlin:20250712T161000
DURATION: P100M
GEO:48.1351242065430;11.5819807052612
END:VEVENT

BEGIN:VEVENT
SUMMARY:SugarMix-Goldfingers
DESCRIPTION:DFV-Pokal Mixed: Untere Halbfinale
LOCATION: München 1
DTSTART;TZID=Europe/Berlin:20250713T090000
DURATION: P100M
GEO:48.1351242065430;11.5819807052612
END:VEVENT

BEGIN:VEVENT
SUMMARY:Colorado-Goldfingers
DESCRIPTION:DFV-Pokal Mixed: Untere Finale
LOCATION: München 2
DTSTART;TZID=Europe/Berlin:20250713T122000
DURATION: P100M
GEO:48.1351242065430;11.5819807052612
END:VEVENT

END:VCALENDAR
