BEGIN:VCALENDAR
VERSION:2.0
PRODID: Ultiorganizer


BEGIN:VEVENT
SUMMARY:Etimates-TeKielas Ostseekids
DESCRIPTION:U14 Quali Nord: Pool A
LOCATION: Bremen 1
DTSTART;TZID=Europe/Berlin:20260125T123500
DURATION: P25M
GEO:53.0792961120605;8.8016939163208
END:VEVENT

BEGIN:VEVENT
SUMMARY:TeKielas Ostseekids-Windhosen Wilhelmshaven
DESCRIPTION:U14 Quali Nord: Pool A
LOCATION: Bremen 1
DTSTART;TZID=Europe/Berlin:20260125T141500
DURATION: P25M
GEO:53.0792961120605;8.8016939163208
END:VEVENT

BEGIN:VEVENT
SUMMARY:Görillaz-TeKielas Ostseekids
DESCRIPTION:U14 Quali Nord: Finale 1-4
LOCATION: Bremen 1
DTSTART;TZID=Europe/Berlin:20260125T155500
DURATION: P25M
GEO:53.0792961120605;8.8016939163208
END:VEVENT

BEGIN:VEVENT
SUMMARY:Windhosen Wilhelmshaven-TeKielas Ostseekids
DESCRIPTION:U14 Quali Nord: Finale 1-4 Finals
LOCATION: Bremen 1
DTSTART;TZID=Europe/Berlin:20260125T171000
DURATION: P25M
GEO:53.0792961120605;8.8016939163208
END:VEVENT

END:VCALENDAR
