BEGIN:VCALENDAR
VERSION:2.0
PRODID: Ultiorganizer


BEGIN:VEVENT
SUMMARY:Bremen Ultimate-TeKielas 2
DESCRIPTION:4. Liga Nord-West Mixed, Indoor: Pool A
LOCATION: Bremen 1
DTSTART;TZID=Europe/Berlin:20260207T090000
DURATION: P45M
GEO:53.0792961120605;8.8016939163208
END:VEVENT

BEGIN:VEVENT
SUMMARY:TeKielas 2-Bonnsai Bonnzwai
DESCRIPTION:4. Liga Nord-West Mixed, Indoor: Pool A
LOCATION: Bremen 1
DTSTART;TZID=Europe/Berlin:20260207T111500
DURATION: P45M
GEO:53.0792961120605;8.8016939163208
END:VEVENT

BEGIN:VEVENT
SUMMARY:TeKielas 2-Nullacht! Ultimate II
DESCRIPTION:4. Liga Nord-West Mixed, Indoor: Pool A
LOCATION: Bremen 1
DTSTART;TZID=Europe/Berlin:20260207T141500
DURATION: P45M
GEO:53.0792961120605;8.8016939163208
END:VEVENT

BEGIN:VEVENT
SUMMARY:Die 7 Todsünden-TeKielas 2
DESCRIPTION:4. Liga Nord-West Mixed, Indoor: Pool A
LOCATION: Bremen 1
DTSTART;TZID=Europe/Berlin:20260207T163000
DURATION: P45M
GEO:53.0792961120605;8.8016939163208
END:VEVENT

BEGIN:VEVENT
SUMMARY:Windhosen Wilhelmshaven-TeKielas 2
DESCRIPTION:4. Liga Nord-West Mixed, Indoor: Pool A
LOCATION: Bremen 2
DTSTART;TZID=Europe/Berlin:20260208T121500
DURATION: P45M
GEO:53.0792961120605;8.8016939163208
END:VEVENT

BEGIN:VEVENT
SUMMARY:TeKielas 2-Family Ultimate
DESCRIPTION:4. Liga Nord-West Mixed, Indoor: Pool A
LOCATION: Bremen 2
DTSTART;TZID=Europe/Berlin:20260208T143000
DURATION: P45M
GEO:53.0792961120605;8.8016939163208
END:VEVENT

END:VCALENDAR
