BEGIN:VCALENDAR
VERSION:2.0
PRODID: Ultiorganizer


BEGIN:VEVENT
SUMMARY:MissTÜrious-DisKAdo
DESCRIPTION:2. Liga Süd Frauen, Indoor: Pool B
LOCATION: Tübingen 1
DTSTART;TZID=Europe/Berlin:20260228T113000
DURATION: P50M
GEO:48.5162277221680;9.0552883148193
END:VEVENT

BEGIN:VEVENT
SUMMARY:FdF Geretsried Damen-MissTÜrious
DESCRIPTION:2. Liga Süd Frauen, Indoor: Pool B
LOCATION: Tübingen 1
DTSTART;TZID=Europe/Berlin:20260228T145000
DURATION: P50M
GEO:48.5162277221680;9.0552883148193
END:VEVENT

BEGIN:VEVENT
SUMMARY:MissTÜrious-FT Würzburg Ultimate
DESCRIPTION:2. Liga Süd Frauen, Indoor: Pool B
LOCATION: Tübingen 1
DTSTART;TZID=Europe/Berlin:20260228T172000
DURATION: P50M
GEO:48.5162277221680;9.0552883148193
END:VEVENT

BEGIN:VEVENT
SUMMARY:MissTÜrious-Mainz Ultimate
DESCRIPTION:2. Liga Süd Frauen, Indoor: Playoff 1-4
LOCATION: Tübingen 1
DTSTART;TZID=Europe/Berlin:20260301T113000
DURATION: P50M
GEO:48.5162277221680;9.0552883148193
END:VEVENT

BEGIN:VEVENT
SUMMARY:FdF Geretsried Damen-MissTÜrious
DESCRIPTION:2. Liga Süd Frauen, Indoor: Playoff 1-4 Finals
LOCATION: Tübingen 1
DTSTART;TZID=Europe/Berlin:20260301T145000
DURATION: P50M
GEO:48.5162277221680;9.0552883148193
END:VEVENT

END:VCALENDAR
