BEGIN:VCALENDAR
VERSION:2.0
PRODID: Ultiorganizer


BEGIN:VEVENT
SUMMARY:Windhosen Wilhelmshaven-Juniorwolves
DESCRIPTION:U17: Pool A
LOCATION: Leipzig 1
DTSTART;TZID=Europe/Berlin:20260321T093000
DURATION: P30M
GEO:51.3396949768066;12.3730745315552
END:VEVENT

BEGIN:VEVENT
SUMMARY:Juniorwolves-MuH - Mir uss Haldawang
DESCRIPTION:U17: Pool A
LOCATION: Leipzig 2
DTSTART;TZID=Europe/Berlin:20260321T115000
DURATION: P30M
GEO:51.3396949768066;12.3730745315552
END:VEVENT

BEGIN:VEVENT
SUMMARY:Juniorwolves-ULTIS Berlin delight
DESCRIPTION:U17: Pool A
LOCATION: Leipzig 2
DTSTART;TZID=Europe/Berlin:20260321T140500
DURATION: P30M
GEO:51.3396949768066;12.3730745315552
END:VEVENT

BEGIN:VEVENT
SUMMARY:Juniorwolves-Ratisbona Eagles
DESCRIPTION:U17: Finale 1-8
LOCATION: Leipzig 1
DTSTART;TZID=Europe/Berlin:20260321T183500
DURATION: P30M
GEO:51.3396949768066;12.3730745315552
END:VEVENT

BEGIN:VEVENT
SUMMARY:Juniorwolves-Frizzly Bears Frizzlies
DESCRIPTION:U17: Finale 1-8 Semifinals
LOCATION: Leipzig 2
DTSTART;TZID=Europe/Berlin:20260322T100000
DURATION: P30M
GEO:51.3396949768066;12.3730745315552
END:VEVENT

BEGIN:VEVENT
SUMMARY:Juniorwolves-Moskitos
DESCRIPTION:U17: Finale 1-8 Finals
LOCATION: Leipzig 2
DTSTART;TZID=Europe/Berlin:20260322T132500
DURATION: P30M
GEO:51.3396949768066;12.3730745315552
END:VEVENT

END:VCALENDAR
