BEGIN:VCALENDAR
VERSION:2.0
PRODID: Ultiorganizer


BEGIN:VEVENT
SUMMARY:Goldfingers-Bad Raps
DESCRIPTION:U17: Pool C
LOCATION: Leipzig 1
DTSTART;TZID=Europe/Berlin:20260321T100000
DURATION: P30M
GEO:51.3396949768066;12.3730745315552
END:VEVENT

BEGIN:VEVENT
SUMMARY:Bad Raps-Jumpys
DESCRIPTION:U17: Pool C
LOCATION: Leipzig 2
DTSTART;TZID=Europe/Berlin:20260321T122000
DURATION: P30M
GEO:51.3396949768066;12.3730745315552
END:VEVENT

BEGIN:VEVENT
SUMMARY:Bad Raps-Lufos
DESCRIPTION:U17: Pool C
LOCATION: Leipzig 2
DTSTART;TZID=Europe/Berlin:20260321T143500
DURATION: P30M
GEO:51.3396949768066;12.3730745315552
END:VEVENT

BEGIN:VEVENT
SUMMARY:Bad Raps-ULTIS Berlin delight
DESCRIPTION:U17: Finale 1-8
LOCATION: Leipzig 4
DTSTART;TZID=Europe/Berlin:20260321T183500
DURATION: P30M
GEO:51.3396949768066;12.3730745315552
END:VEVENT

BEGIN:VEVENT
SUMMARY:Goldfingers-Bad Raps
DESCRIPTION:U17: Finale 1-8 Semifinals
LOCATION: Leipzig 3
DTSTART;TZID=Europe/Berlin:20260322T100000
DURATION: P30M
GEO:51.3396949768066;12.3730745315552
END:VEVENT

BEGIN:VEVENT
SUMMARY:Windhosen Wilhelmshaven-Bad Raps
DESCRIPTION:U17: Finale 1-8 Finals
LOCATION: Leipzig 3
DTSTART;TZID=Europe/Berlin:20260322T121500
DURATION: P30M
GEO:51.3396949768066;12.3730745315552
END:VEVENT

END:VCALENDAR
