BEGIN:VCALENDAR
VERSION:2.0
PRODID: Ultiorganizer


BEGIN:VEVENT
SUMMARY:MuH-Lions Heidelberg
DESCRIPTION:Junioren U14: Pool A
LOCATION: Frankfurt am Main 1
DTSTART;TZID=Europe/Berlin:20170318T104000
DURATION: P35M
GEO:50.1109237670898;8.6821269989014
END:VEVENT

BEGIN:VEVENT
SUMMARY:DISCoveries-Äitschbees
DESCRIPTION:Junioren U14: Pool A
LOCATION: Frankfurt am Main 1
DTSTART;TZID=Europe/Berlin:20170318T111500
DURATION: P35M
GEO:50.1109237670898;8.6821269989014
END:VEVENT

BEGIN:VEVENT
SUMMARY:MuH-DISCoveries
DESCRIPTION:Junioren U14: Pool A
LOCATION: Frankfurt am Main 1
DTSTART;TZID=Europe/Berlin:20170318T130000
DURATION: P35M
GEO:50.1109237670898;8.6821269989014
END:VEVENT

BEGIN:VEVENT
SUMMARY:Lions Heidelberg-Äitschbees
DESCRIPTION:Junioren U14: Pool A
LOCATION: Frankfurt am Main 1
DTSTART;TZID=Europe/Berlin:20170318T133500
DURATION: P35M
GEO:50.1109237670898;8.6821269989014
END:VEVENT

BEGIN:VEVENT
SUMMARY:Lions Heidelberg-DISCoveries
DESCRIPTION:Junioren U14: Pool A
LOCATION: Frankfurt am Main 1
DTSTART;TZID=Europe/Berlin:20170318T152000
DURATION: P35M
GEO:50.1109237670898;8.6821269989014
END:VEVENT

BEGIN:VEVENT
SUMMARY:Äitschbees-MuH
DESCRIPTION:Junioren U14: Pool A
LOCATION: Frankfurt am Main 1
DTSTART;TZID=Europe/Berlin:20170318T155500
DURATION: P35M
GEO:50.1109237670898;8.6821269989014
END:VEVENT

END:VCALENDAR
