BEGIN:VCALENDAR
VERSION:2.0
PRODID: Ultiorganizer


BEGIN:VEVENT
SUMMARY:Wolpertinger-Sturm und Drang
DESCRIPTION:Open 2. Liga Süd: Pool A
LOCATION: ESV München 1
DTSTART;TZID=Europe/Berlin:20210911T100000
DURATION: P100M
GEO:48.1467399597168;11.5003280639648
END:VEVENT

BEGIN:VEVENT
SUMMARY:Kiel 2-Paradisco
DESCRIPTION:Open 2. Liga Süd: Pool A
LOCATION: ESV München 2
DTSTART;TZID=Europe/Berlin:20210911T100000
DURATION: P100M
GEO:48.1467399597168;11.5003280639648
END:VEVENT

BEGIN:VEVENT
SUMMARY:2MUCL-Wolpertinger
DESCRIPTION:Open 2. Liga Süd: Pool A
LOCATION: ESV München 1
DTSTART;TZID=Europe/Berlin:20210911T124000
DURATION: P100M
GEO:48.1467399597168;11.5003280639648
END:VEVENT

BEGIN:VEVENT
SUMMARY:Sturm und Drang-Kiel 2
DESCRIPTION:Open 2. Liga Süd: Pool A
LOCATION: ESV München 2
DTSTART;TZID=Europe/Berlin:20210911T124000
DURATION: P100M
GEO:48.1467399597168;11.5003280639648
END:VEVENT

BEGIN:VEVENT
SUMMARY:Wolpertinger-THW
DESCRIPTION:Open 2. Liga Süd: Pool A
LOCATION: ESV München 1
DTSTART;TZID=Europe/Berlin:20210911T152000
DURATION: P100M
GEO:48.1467399597168;11.5003280639648
END:VEVENT

BEGIN:VEVENT
SUMMARY:Kiel 2-2MUCL
DESCRIPTION:Open 2. Liga Süd: Pool A
LOCATION: ESV München 2
DTSTART;TZID=Europe/Berlin:20210911T152000
DURATION: P100M
GEO:48.1467399597168;11.5003280639648
END:VEVENT

BEGIN:VEVENT
SUMMARY:THW-2MUCL
DESCRIPTION:Open 2. Liga Süd: Pool A
LOCATION: ESV München 3
DTSTART;TZID=Europe/Berlin:20210911T100000
DURATION: P100M
GEO:48.1467399597168;11.5003280639648
END:VEVENT

BEGIN:VEVENT
SUMMARY:THW-Paradisco
DESCRIPTION:Open 2. Liga Süd: Pool A
LOCATION: ESV München 3
DTSTART;TZID=Europe/Berlin:20210911T124000
DURATION: P100M
GEO:48.1467399597168;11.5003280639648
END:VEVENT

BEGIN:VEVENT
SUMMARY:Sturm und Drang-Paradisco
DESCRIPTION:Open 2. Liga Süd: Pool A
LOCATION: ESV München 3
DTSTART;TZID=Europe/Berlin:20210911T152000
DURATION: P100M
GEO:48.1467399597168;11.5003280639648
END:VEVENT

BEGIN:VEVENT
SUMMARY:Paradisco-Wolpertinger
DESCRIPTION:Open 2. Liga Süd: Pool A
LOCATION: ESV München 1
DTSTART;TZID=Europe/Berlin:20210912T100000
DURATION: P100M
GEO:48.1467399597168;11.5003280639648
END:VEVENT

BEGIN:VEVENT
SUMMARY:THW-Kiel 2
DESCRIPTION:Open 2. Liga Süd: Pool A
LOCATION: ESV München 2
DTSTART;TZID=Europe/Berlin:20210912T100000
DURATION: P100M
GEO:48.1467399597168;11.5003280639648
END:VEVENT

BEGIN:VEVENT
SUMMARY:Kiel 2-Wolpertinger
DESCRIPTION:Open 2. Liga Süd: Pool A
LOCATION: ESV München 1
DTSTART;TZID=Europe/Berlin:20210912T124000
DURATION: P100M
GEO:48.1467399597168;11.5003280639648
END:VEVENT

BEGIN:VEVENT
SUMMARY:Sturm und Drang-THW
DESCRIPTION:Open 2. Liga Süd: Pool A
LOCATION: ESV München 2
DTSTART;TZID=Europe/Berlin:20210912T124000
DURATION: P100M
GEO:48.1467399597168;11.5003280639648
END:VEVENT

BEGIN:VEVENT
SUMMARY:2MUCL-Sturm und Drang
DESCRIPTION:Open 2. Liga Süd: Pool A
LOCATION: ESV München 3
DTSTART;TZID=Europe/Berlin:20210912T100000
DURATION: P100M
GEO:48.1467399597168;11.5003280639648
END:VEVENT

BEGIN:VEVENT
SUMMARY:Paradisco-2MUCL
DESCRIPTION:Open 2. Liga Süd: Pool A
LOCATION: ESV München 3
DTSTART;TZID=Europe/Berlin:20210912T124000
DURATION: P100M
GEO:48.1467399597168;11.5003280639648
END:VEVENT

END:VCALENDAR
