BEGIN:VCALENDAR
VERSION:2.0
PRODID: Ultiorganizer


BEGIN:VEVENT
SUMMARY:Monaco Mix-Ars Ludendi
DESCRIPTION:Mixed 1. Liga: Pool A
LOCATION: DJK BFC Concordia, Ziegelstein 1
DTSTART;TZID=Europe/Berlin:20220528T090000
DURATION: P100M
GEO:49.4908294677734;11.1110095977783
END:VEVENT

BEGIN:VEVENT
SUMMARY:Deine Mudder Bremen-Colorado
DESCRIPTION:Mixed 1. Liga: Pool A
LOCATION: DJK BFC Concordia, Ziegelstein 2
DTSTART;TZID=Europe/Berlin:20220528T090000
DURATION: P100M
GEO:49.4908294677734;11.1110095977783
END:VEVENT

BEGIN:VEVENT
SUMMARY:Hässliche Erdferkel-NextGen
DESCRIPTION:Mixed 1. Liga: Pool A
LOCATION: DJK BFC Concordia, Ziegelstein 1
DTSTART;TZID=Europe/Berlin:20220528T104000
DURATION: P100M
GEO:49.4908294677734;11.1110095977783
END:VEVENT

BEGIN:VEVENT
SUMMARY:Die 7 Todsünden-Disckick
DESCRIPTION:Mixed 1. Liga: Pool A
LOCATION: DJK BFC Concordia, Ziegelstein 2
DTSTART;TZID=Europe/Berlin:20220528T104000
DURATION: P100M
GEO:49.4908294677734;11.1110095977783
END:VEVENT

BEGIN:VEVENT
SUMMARY:Ars Ludendi-Deine Mudder Bremen
DESCRIPTION:Mixed 1. Liga: Pool A
LOCATION: DJK BFC Concordia, Ziegelstein 1
DTSTART;TZID=Europe/Berlin:20220528T122000
DURATION: P100M
GEO:49.4908294677734;11.1110095977783
END:VEVENT

BEGIN:VEVENT
SUMMARY:Colorado-Monaco Mix
DESCRIPTION:Mixed 1. Liga: Pool A
LOCATION: DJK BFC Concordia, Ziegelstein 2
DTSTART;TZID=Europe/Berlin:20220528T122000
DURATION: P100M
GEO:49.4908294677734;11.1110095977783
END:VEVENT

BEGIN:VEVENT
SUMMARY:Disckick-Hässliche Erdferkel
DESCRIPTION:Mixed 1. Liga: Pool A
LOCATION: DJK BFC Concordia, Ziegelstein 1
DTSTART;TZID=Europe/Berlin:20220528T140000
DURATION: P100M
GEO:49.4908294677734;11.1110095977783
END:VEVENT

BEGIN:VEVENT
SUMMARY:NextGen-Die 7 Todsünden
DESCRIPTION:Mixed 1. Liga: Pool A
LOCATION: DJK BFC Concordia, Ziegelstein 2
DTSTART;TZID=Europe/Berlin:20220528T140000
DURATION: P100M
GEO:49.4908294677734;11.1110095977783
END:VEVENT

BEGIN:VEVENT
SUMMARY:Ars Ludendi-Colorado
DESCRIPTION:Mixed 1. Liga: Pool A
LOCATION: DJK BFC Concordia, Ziegelstein 1
DTSTART;TZID=Europe/Berlin:20220528T154000
DURATION: P100M
GEO:49.4908294677734;11.1110095977783
END:VEVENT

BEGIN:VEVENT
SUMMARY:Deine Mudder Bremen-Monaco Mix
DESCRIPTION:Mixed 1. Liga: Pool A
LOCATION: DJK BFC Concordia, Ziegelstein 2
DTSTART;TZID=Europe/Berlin:20220528T154000
DURATION: P100M
GEO:49.4908294677734;11.1110095977783
END:VEVENT

BEGIN:VEVENT
SUMMARY:Hässliche Erdferkel-Die 7 Todsünden
DESCRIPTION:Mixed 1. Liga: Pool A
LOCATION: DJK BFC Concordia, Ziegelstein 1
DTSTART;TZID=Europe/Berlin:20220528T172000
DURATION: P100M
GEO:49.4908294677734;11.1110095977783
END:VEVENT

BEGIN:VEVENT
SUMMARY:NextGen-Disckick
DESCRIPTION:Mixed 1. Liga: Pool A
LOCATION: DJK BFC Concordia, Ziegelstein 2
DTSTART;TZID=Europe/Berlin:20220528T172000
DURATION: P100M
GEO:49.4908294677734;11.1110095977783
END:VEVENT

BEGIN:VEVENT
SUMMARY:Ars Ludendi-Disckick
DESCRIPTION:Mixed 1. Liga: Pool A
LOCATION: DJK BFC Concordia, Ziegelstein 1
DTSTART;TZID=Europe/Berlin:20220529T090000
DURATION: P100M
GEO:49.4908294677734;11.1110095977783
END:VEVENT

BEGIN:VEVENT
SUMMARY:Die 7 Todsünden-Deine Mudder Bremen
DESCRIPTION:Mixed 1. Liga: Pool A
LOCATION: DJK BFC Concordia, Ziegelstein 2
DTSTART;TZID=Europe/Berlin:20220529T090000
DURATION: P100M
GEO:49.4908294677734;11.1110095977783
END:VEVENT

BEGIN:VEVENT
SUMMARY:Hässliche Erdferkel-Monaco Mix
DESCRIPTION:Mixed 1. Liga: Pool A
LOCATION: DJK BFC Concordia, Ziegelstein 1
DTSTART;TZID=Europe/Berlin:20220529T104000
DURATION: P100M
GEO:49.4908294677734;11.1110095977783
END:VEVENT

BEGIN:VEVENT
SUMMARY:Colorado-NextGen
DESCRIPTION:Mixed 1. Liga: Pool A
LOCATION: DJK BFC Concordia, Ziegelstein 2
DTSTART;TZID=Europe/Berlin:20220529T104000
DURATION: P100M
GEO:49.4908294677734;11.1110095977783
END:VEVENT

BEGIN:VEVENT
SUMMARY:Die 7 Todsünden-Ars Ludendi
DESCRIPTION:Mixed 1. Liga: Pool A
LOCATION: DJK BFC Concordia, Ziegelstein 1
DTSTART;TZID=Europe/Berlin:20220529T122000
DURATION: P100M
GEO:49.4908294677734;11.1110095977783
END:VEVENT

BEGIN:VEVENT
SUMMARY:Disckick-Deine Mudder Bremen
DESCRIPTION:Mixed 1. Liga: Pool A
LOCATION: DJK BFC Concordia, Ziegelstein 2
DTSTART;TZID=Europe/Berlin:20220529T122000
DURATION: P100M
GEO:49.4908294677734;11.1110095977783
END:VEVENT

BEGIN:VEVENT
SUMMARY:Colorado-Hässliche Erdferkel
DESCRIPTION:Mixed 1. Liga: Pool A
LOCATION: DJK BFC Concordia, Ziegelstein 1
DTSTART;TZID=Europe/Berlin:20220529T140000
DURATION: P100M
GEO:49.4908294677734;11.1110095977783
END:VEVENT

BEGIN:VEVENT
SUMMARY:Monaco Mix-NextGen
DESCRIPTION:Mixed 1. Liga: Pool A
LOCATION: DJK BFC Concordia, Ziegelstein 2
DTSTART;TZID=Europe/Berlin:20220529T140000
DURATION: P100M
GEO:49.4908294677734;11.1110095977783
END:VEVENT

BEGIN:VEVENT
SUMMARY:Disckick-Colorado
DESCRIPTION:Mixed 1. Liga: Pool A
LOCATION: Freiburg 1
DTSTART;TZID=Europe/Berlin:20220903T090000
DURATION: P100M
GEO:47.9990081787109;7.8421044349670
END:VEVENT

BEGIN:VEVENT
SUMMARY:Monaco Mix-Die 7 Todsünden
DESCRIPTION:Mixed 1. Liga: Pool A
LOCATION: Freiburg 2
DTSTART;TZID=Europe/Berlin:20220903T090000
DURATION: P100M
GEO:47.9990081787109;7.8421044349670
END:VEVENT

BEGIN:VEVENT
SUMMARY:Deine Mudder Bremen-Hässliche Erdferkel
DESCRIPTION:Mixed 1. Liga: Pool A
LOCATION: Freiburg 1
DTSTART;TZID=Europe/Berlin:20220903T104000
DURATION: P100M
GEO:47.9990081787109;7.8421044349670
END:VEVENT

BEGIN:VEVENT
SUMMARY:NextGen-Ars Ludendi
DESCRIPTION:Mixed 1. Liga: Pool A
LOCATION: Freiburg 2
DTSTART;TZID=Europe/Berlin:20220903T104000
DURATION: P100M
GEO:47.9990081787109;7.8421044349670
END:VEVENT

BEGIN:VEVENT
SUMMARY:Colorado-Die 7 Todsünden
DESCRIPTION:Mixed 1. Liga: Pool A
LOCATION: Freiburg 1
DTSTART;TZID=Europe/Berlin:20220903T122000
DURATION: P100M
GEO:47.9990081787109;7.8421044349670
END:VEVENT

BEGIN:VEVENT
SUMMARY:Disckick-Monaco Mix
DESCRIPTION:Mixed 1. Liga: Pool A
LOCATION: Freiburg 2
DTSTART;TZID=Europe/Berlin:20220903T122000
DURATION: P100M
GEO:47.9990081787109;7.8421044349670
END:VEVENT

BEGIN:VEVENT
SUMMARY:Hässliche Erdferkel-Ars Ludendi
DESCRIPTION:Mixed 1. Liga: Pool A
LOCATION: Freiburg 1
DTSTART;TZID=Europe/Berlin:20220903T140000
DURATION: P100M
GEO:47.9990081787109;7.8421044349670
END:VEVENT

BEGIN:VEVENT
SUMMARY:Deine Mudder Bremen-NextGen
DESCRIPTION:Mixed 1. Liga: Pool A
LOCATION: Freiburg 2
DTSTART;TZID=Europe/Berlin:20220903T140000
DURATION: P100M
GEO:47.9990081787109;7.8421044349670
END:VEVENT

END:VCALENDAR
