BEGIN:VCALENDAR
VERSION:2.0
PRODID: Ultiorganizer


BEGIN:VEVENT
SUMMARY:Frizzly Bears-Disconnection
DESCRIPTION:Mixed 1. Liga: Pool A
LOCATION: Geretsried 1
DTSTART;TZID=Europe/Berlin:20240127T090000
DURATION: P50M
GEO:0.0000000000000;0.0000000000000
END:VEVENT

BEGIN:VEVENT
SUMMARY:Heidees-Hucks Ultimate Club Berlin
DESCRIPTION:Mixed 1. Liga: Pool A
LOCATION: Geretsried 1
DTSTART;TZID=Europe/Berlin:20240127T095000
DURATION: P50M
GEO:0.0000000000000;0.0000000000000
END:VEVENT

BEGIN:VEVENT
SUMMARY:Heidees-Frizzly Bears
DESCRIPTION:Mixed 1. Liga: Pool A
LOCATION: Geretsried 1
DTSTART;TZID=Europe/Berlin:20240127T122000
DURATION: P50M
GEO:0.0000000000000;0.0000000000000
END:VEVENT

BEGIN:VEVENT
SUMMARY:Hucks Ultimate Club Berlin-Disconnection
DESCRIPTION:Mixed 1. Liga: Pool A
LOCATION: Geretsried 1
DTSTART;TZID=Europe/Berlin:20240127T131000
DURATION: P50M
GEO:0.0000000000000;0.0000000000000
END:VEVENT

BEGIN:VEVENT
SUMMARY:Hucks Ultimate Club Berlin-Frizzly Bears
DESCRIPTION:Mixed 1. Liga: Pool A
LOCATION: Geretsried 1
DTSTART;TZID=Europe/Berlin:20240127T154000
DURATION: P50M
GEO:0.0000000000000;0.0000000000000
END:VEVENT

BEGIN:VEVENT
SUMMARY:Disconnection-Heidees
DESCRIPTION:Mixed 1. Liga: Pool A
LOCATION: Geretsried 1
DTSTART;TZID=Europe/Berlin:20240127T163000
DURATION: P50M
GEO:0.0000000000000;0.0000000000000
END:VEVENT

END:VCALENDAR
