BEGIN:VCALENDAR
VERSION:2.0
PRODID: Ultiorganizer


BEGIN:VEVENT
SUMMARY:WaldStadt-Hucks Ultimate Club Berlin
DESCRIPTION:Open 1. Liga: Relegationsspiel (Platz 11)
LOCATION: Nürnberg 2
DTSTART;TZID=Europe/Berlin:20240922T122000
DURATION: P100M
GEO:49.4451942443848;11.0822305679321
END:VEVENT

BEGIN:VEVENT
SUMMARY:7Schwaben-Werfwölfe
DESCRIPTION:Open 1. Liga: Relegationsspiel (Platz 11)
LOCATION: Nürnberg 3
DTSTART;TZID=Europe/Berlin:20240922T122000
DURATION: P100M
GEO:49.4451942443848;11.0822305679321
END:VEVENT

END:VCALENDAR
